BEGIN:VCALENDAR
VERSION:2.0
PRODID:-//Highland Terrace PTA - ECPv6.15.20//NONSGML v1.0//EN
CALSCALE:GREGORIAN
METHOD:PUBLISH
X-WR-CALNAME:Highland Terrace PTA
X-ORIGINAL-URL:https://highlandterracepta.org
X-WR-CALDESC:Events for Highland Terrace PTA
REFRESH-INTERVAL;VALUE=DURATION:PT1H
X-Robots-Tag:noindex
X-PUBLISHED-TTL:PT1H
BEGIN:VTIMEZONE
TZID:America/Los_Angeles
BEGIN:DAYLIGHT
TZOFFSETFROM:-0800
TZOFFSETTO:-0700
TZNAME:PDT
DTSTART:20230312T100000
END:DAYLIGHT
BEGIN:STANDARD
TZOFFSETFROM:-0700
TZOFFSETTO:-0800
TZNAME:PST
DTSTART:20231105T090000
END:STANDARD
BEGIN:DAYLIGHT
TZOFFSETFROM:-0800
TZOFFSETTO:-0700
TZNAME:PDT
DTSTART:20240310T100000
END:DAYLIGHT
BEGIN:STANDARD
TZOFFSETFROM:-0700
TZOFFSETTO:-0800
TZNAME:PST
DTSTART:20241103T090000
END:STANDARD
BEGIN:DAYLIGHT
TZOFFSETFROM:-0800
TZOFFSETTO:-0700
TZNAME:PDT
DTSTART:20250309T100000
END:DAYLIGHT
BEGIN:STANDARD
TZOFFSETFROM:-0700
TZOFFSETTO:-0800
TZNAME:PST
DTSTART:20251102T090000
END:STANDARD
END:VTIMEZONE
BEGIN:VEVENT
DTSTART;VALUE=DATE:20241013
DTEND;VALUE=DATE:20241018
DTSTAMP:20260424T063748
CREATED:20240825T211124Z
LAST-MODIFIED:20240825T211124Z
UID:5596-1728777600-1729209599@highlandterracepta.org
SUMMARY:Dine Out at Round Table Pizza to Support HTPTA
DESCRIPTION:Mention Highland Terrace fundraiser at checkout for a portion of the proceeds to go towards the Highland Terrace PTA!
URL:https://highlandterracepta.org/event/dine-out-at-round-table-pizza-to-support-htpta/
LOCATION:Round Table Pizza\, 15725 Westminster Way N Suite B\, Shoreline\, WA\, 98133
ORGANIZER;CN="Highland Terrace PTA":MAILTO:highlandterracepta@gmail.com
END:VEVENT
BEGIN:VEVENT
DTSTART;VALUE=DATE:20241017
DTEND;VALUE=DATE:20241018
DTSTAMP:20260424T063748
CREATED:20240825T211805Z
LAST-MODIFIED:20240825T213246Z
UID:5599-1729123200-1729209599@highlandterracepta.org
SUMMARY:PTA Board Meeting
DESCRIPTION:Time and location information to follow
URL:https://highlandterracepta.org/event/pta-board-meeting-17/
LOCATION:WA
ORGANIZER;CN="Highland Terrace PTA":MAILTO:highlandterracepta@gmail.com
END:VEVENT
BEGIN:VEVENT
DTSTART;TZID=America/Los_Angeles:20241021T180000
DTEND;TZID=America/Los_Angeles:20241021T193000
DTSTAMP:20260424T063748
CREATED:20241003T043121Z
LAST-MODIFIED:20241010T034455Z
UID:5689-1729533600-1729539000@highlandterracepta.org
SUMMARY:Festival of Cultures
DESCRIPTION:Event\nJoin us for this free community event celebrating the many cultures\, heritages\, countries\, and states of origin represented in our HT community. Feel free to come wearing clothing that represents your heritage and tradition. \nPotluck Buffet\nWe invite everyone to bring a dish to share for the potluck buffet. Please label it with the country of origin and recipe. We’ll build a cookbook to share with all Orcas electronically following the event.  *PLEASE note dishes with nuts* \nFor more info\, check out the Festival of Cultures page under Events on our website
URL:https://highlandterracepta.org/event/festival-of-cultures-2/
LOCATION:Highland Terrace Elementary School\, 100 N 160th St\, Shoreline\, WA 98133\, Shoreline\, 98133\, United States
END:VEVENT
BEGIN:VEVENT
DTSTART;TZID=America/Los_Angeles:20241023T180000
DTEND;TZID=America/Los_Angeles:20241023T193000
DTSTAMP:20260424T063748
CREATED:20241010T040712Z
LAST-MODIFIED:20241010T041920Z
UID:5707-1729706400-1729711800@highlandterracepta.org
SUMMARY:WEA Funding Town Hall
DESCRIPTION:Don’t miss your chance to be heard!\nWednesday\, October 23 6:00 – 7:30PM @ Edmonds-Woodway High School This Town Hall is a kick off to conversations with lawmakers about the devastating impacts of the lack of funding on our districts\, schools\, and students. It is a joint effort of educators and leaders in the three districts\, and legislators from 1st\, 21st\, 32nd\, 44th\, and 45th legislative districts have been invited. Register here to attend.
URL:https://highlandterracepta.org/event/wea-funding-town-hall/
LOCATION:Edmonds-Woodway High School\, 7600 212th St SW\, Ed
END:VEVENT
BEGIN:VEVENT
DTSTART;VALUE=DATE:20241027
DTEND;VALUE=DATE:20241028
DTSTAMP:20260424T063748
CREATED:20240825T213036Z
LAST-MODIFIED:20240825T213036Z
UID:5615-1729987200-1730073599@highlandterracepta.org
SUMMARY:Costume Playdate at Sunset Park
DESCRIPTION:More information to follow
URL:https://highlandterracepta.org/event/costume-playdate-at-sunset-park/
LOCATION:WA
ORGANIZER;CN="Highland Terrace PTA":MAILTO:highlandterracepta@gmail.com
END:VEVENT
END:VCALENDAR