BEGIN:VCALENDAR
VERSION:2.0
PRODID:-//Highland Terrace PTA - ECPv6.15.20//NONSGML v1.0//EN
CALSCALE:GREGORIAN
METHOD:PUBLISH
X-WR-CALNAME:Highland Terrace PTA
X-ORIGINAL-URL:https://highlandterracepta.org
X-WR-CALDESC:Events for Highland Terrace PTA
REFRESH-INTERVAL;VALUE=DURATION:PT1H
X-Robots-Tag:noindex
X-PUBLISHED-TTL:PT1H
BEGIN:VTIMEZONE
TZID:America/Los_Angeles
BEGIN:DAYLIGHT
TZOFFSETFROM:-0800
TZOFFSETTO:-0700
TZNAME:PDT
DTSTART:20230312T100000
END:DAYLIGHT
BEGIN:STANDARD
TZOFFSETFROM:-0700
TZOFFSETTO:-0800
TZNAME:PST
DTSTART:20231105T090000
END:STANDARD
BEGIN:DAYLIGHT
TZOFFSETFROM:-0800
TZOFFSETTO:-0700
TZNAME:PDT
DTSTART:20240310T100000
END:DAYLIGHT
BEGIN:STANDARD
TZOFFSETFROM:-0700
TZOFFSETTO:-0800
TZNAME:PST
DTSTART:20241103T090000
END:STANDARD
BEGIN:DAYLIGHT
TZOFFSETFROM:-0800
TZOFFSETTO:-0700
TZNAME:PDT
DTSTART:20250309T100000
END:DAYLIGHT
BEGIN:STANDARD
TZOFFSETFROM:-0700
TZOFFSETTO:-0800
TZNAME:PST
DTSTART:20251102T090000
END:STANDARD
END:VTIMEZONE
BEGIN:VEVENT
DTSTART;TZID=America/Los_Angeles:20240504T190500
DTEND;TZID=America/Los_Angeles:20240504T223000
DTSTAMP:20260424T131145
CREATED:20240304T071909Z
LAST-MODIFIED:20240304T071909Z
UID:5284-1714849500-1714861800@highlandterracepta.org
SUMMARY:HT Night @ Everett Aquasox Baseball
DESCRIPTION:Join us for an HT outing at the ballpark! The Everett Aquasox are offering HT families discounted tickets to Star Wars Night on May 4. \nGet tickets here \nEnjoy a pre- and post-game Star Wars show and take photos with some of your favorite characters on the concourse throughout the game. After the game the fun continues with a fireworks show set to music from Star Wars. \nThe team will be wearing special Star Wars uniforms and concessions will feature special Star Wars food and drinks. Free parking in the south lot. \nFirst pitch is at 7:05pm.
URL:https://highlandterracepta.org/event/ht-night-aquasox-baseball/
LOCATION:Funko Field\, 3900 Broadway\, Everett\, WA\, 98201
END:VEVENT
BEGIN:VEVENT
DTSTART;VALUE=DATE:20240506
DTEND;VALUE=DATE:20240511
DTSTAMP:20260424T131145
CREATED:20230826T062159Z
LAST-MODIFIED:20240506T211704Z
UID:4674-1714953600-1715385599@highlandterracepta.org
SUMMARY:Teacher Appreciation Week
DESCRIPTION:Teacher Appreciation Week is May 6–10. Below are ideas for celebrating all of our wonderful HT educators throughout the week. Look for an email from your room parent for specific ideas and suggestions for your student’s classroom teacher. \nMonday May 6: Parent Thank You Day\nSend a personal note about something you appreciate about your teachers and what they have accomplished with your student. \nTuesday May 7: Flower Day\nSend your student to school with a flower (real or handmade) to give to teacher(s). They will all be put in a vase and will make a beautiful bouquet to have for the rest of the week. \nWednesday May 8: Gift Card Day\nSend a physical gift card of any size to school with your student or email a virtual gift card. Many room parents are pooling funds to put together a class gift for this day–check the email from your room parent for details. \nThursday May 9: Student Thank You Day\nHave your student write a Thank You note to their teacher(s) and send them to school with your child.  What is their favorite part of class? How does their teacher help them best? \nFriday May 10: Special Treat Day\nBring your teacher’s favorite treats to class.
URL:https://highlandterracepta.org/event/teacher-appreciation-week-2024/
LOCATION:Highland Terrace Elementary\, 100 N 160th St\, Shoreline\, WA\, 98133
ATTACH;FMTTYPE=image/png:https://highlandterracepta.org/wp-content/uploads/2023/05/unnamed-3-e1715026933270.png
ORGANIZER;CN="Highland Terrace PTA":MAILTO:highlandterracepta@gmail.com
END:VEVENT
BEGIN:VEVENT
DTSTART;TZID=America/Los_Angeles:20240518T183000
DTEND;TZID=America/Los_Angeles:20240518T213000
DTSTAMP:20260424T131145
CREATED:20240111T225850Z
LAST-MODIFIED:20240401T195345Z
UID:5133-1716057000-1716067800@highlandterracepta.org
SUMMARY:Highland Terrace Auction
DESCRIPTION:We’re holding an auction to raise money for before and after school enrichment programs as well as a new playground that will be ADA accessible for all students to enjoy. There will be a silent auction\, raffle\, and paddle raise. \nTickets are on sale now! Includes admission\, food\, dessert\, and 1 drink voucher. Buy today to secure the early bird price of $40. Tickets will be $50 starting 4/1. \nGet auction tickets > \nContact HTPTAauction@gmail.com to get involved or to reach the auction committee.
URL:https://highlandterracepta.org/event/highland-terrace-auction/
LOCATION:Innis Arden Clubhouse\, 1430 NW 188th St\, Shoreline\, WA\, 98177
ATTACH;FMTTYPE=image/png:https://highlandterracepta.org/wp-content/uploads/2024/02/auction-invite.png
ORGANIZER;CN="Highland Terrace PTA":MAILTO:highlandterracepta@gmail.com
END:VEVENT
BEGIN:VEVENT
DTSTART;TZID=America/Los_Angeles:20240521T183000
DTEND;TZID=America/Los_Angeles:20240521T200000
DTSTAMP:20260424T131145
CREATED:20230826T064826Z
LAST-MODIFIED:20231003T184551Z
UID:4693-1716316200-1716321600@highlandterracepta.org
SUMMARY:HTPTA May Board Meeting
DESCRIPTION:All are welcome to join us at HTPTA’s May Board meeting on Tuesday\, May 21 in the Highland Terrace Library.
URL:https://highlandterracepta.org/event/may-2024-board-meeting/
LOCATION:Highland Terrace Library\, 100 N 160th St\, Shoreline\, WA\, 98133
CATEGORIES:PTA Meeting
ORGANIZER;CN="Highland Terrace PTA":MAILTO:highlandterracepta@gmail.com
END:VEVENT
BEGIN:VEVENT
DTSTART;TZID=America/Los_Angeles:20240523T183000
DTEND;TZID=America/Los_Angeles:20240523T200000
DTSTAMP:20260424T131145
CREATED:20240401T190446Z
LAST-MODIFIED:20240516T205531Z
UID:5421-1716489000-1716494400@highlandterracepta.org
SUMMARY:Science Night
DESCRIPTION:Science Night 2024 is Thursday\, May 23. \nScience Night is one of Highland Terrace’s biggest annual events featuring exhibits and activities from local organizations and student groups. This year we have 19 exhibitors including an outdoor petting zoo\, live reptiles\, robots\, crafts\, interactive activities\, and more! \nThe event begins at 6:30pm with a soft opening at 6pm for families who would benefit from a smaller crowd. \nWe need a few volunteers to help on the evening of the event. Dinner is provided! Sign up to volunteer \nSee the Science Night page for complete details.
URL:https://highlandterracepta.org/event/science-night-2024/
LOCATION:Highland Terrace Elementary\, 100 N 160th St\, Shoreline\, WA\, 98133
ATTACH;FMTTYPE=image/png:https://highlandterracepta.org/wp-content/uploads/2023/02/Science-Night-Banner-2.5-x-8-1.png
ORGANIZER;CN="Highland Terrace PTA":MAILTO:highlandterracepta@gmail.com
END:VEVENT
END:VCALENDAR