BEGIN:VCALENDAR
VERSION:2.0
PRODID:-//Highland Terrace PTA - ECPv6.15.20//NONSGML v1.0//EN
CALSCALE:GREGORIAN
METHOD:PUBLISH
X-WR-CALNAME:Highland Terrace PTA
X-ORIGINAL-URL:https://highlandterracepta.org
X-WR-CALDESC:Events for Highland Terrace PTA
REFRESH-INTERVAL;VALUE=DURATION:PT1H
X-Robots-Tag:noindex
X-PUBLISHED-TTL:PT1H
BEGIN:VTIMEZONE
TZID:America/Los_Angeles
BEGIN:DAYLIGHT
TZOFFSETFROM:-0800
TZOFFSETTO:-0700
TZNAME:PDT
DTSTART:20230312T100000
END:DAYLIGHT
BEGIN:STANDARD
TZOFFSETFROM:-0700
TZOFFSETTO:-0800
TZNAME:PST
DTSTART:20231105T090000
END:STANDARD
BEGIN:DAYLIGHT
TZOFFSETFROM:-0800
TZOFFSETTO:-0700
TZNAME:PDT
DTSTART:20240310T100000
END:DAYLIGHT
BEGIN:STANDARD
TZOFFSETFROM:-0700
TZOFFSETTO:-0800
TZNAME:PST
DTSTART:20241103T090000
END:STANDARD
BEGIN:DAYLIGHT
TZOFFSETFROM:-0800
TZOFFSETTO:-0700
TZNAME:PDT
DTSTART:20250309T100000
END:DAYLIGHT
BEGIN:STANDARD
TZOFFSETFROM:-0700
TZOFFSETTO:-0800
TZNAME:PST
DTSTART:20251102T090000
END:STANDARD
END:VTIMEZONE
BEGIN:VEVENT
DTSTART;VALUE=DATE:20240203
DTEND;VALUE=DATE:20240208
DTSTAMP:20260424T171312
CREATED:20230826T060328Z
LAST-MODIFIED:20240201T234755Z
UID:4668-1706918400-1707350399@highlandterracepta.org
SUMMARY:Scholastic Book Fair
DESCRIPTION:The Scholastic Book Fair kicks off on February 3 during the Pancake Breakfast and runs through February 7. Come shop and support our school library–50% of sales goes to the HT library for new books and materials (note: the book fair is not a PTA fundraiser). \nBook Fair schedule:\nSaturday 2/3 \n\n7:45am – 11am:  Official kickoff during Pancake Breakfast\n\nMonday-Wednesday 2/5-2/7 \n\n11am-12:30pm: Students can shop during lunch recess\n3:35pm-4pm: After school shopping w/ a family member\n\nIf your student plans to shop during lunch recess\, consider setting up an eWallet so they don’t have to carry cash. You can set up an eWallet on the Scholastic website here. \nWe need volunteers!\nSign up to help out at the book fair.
URL:https://highlandterracepta.org/event/scholastic-book-fair-2024/
LOCATION:Highland Terrace Library\, 100 N 160th St\, Shoreline\, WA\, 98133
CATEGORIES:Fundraising
END:VEVENT
BEGIN:VEVENT
DTSTART;TZID=America/Los_Angeles:20240203T080000
DTEND;TZID=America/Los_Angeles:20240203T110000
DTSTAMP:20260424T171312
CREATED:20230826T060013Z
LAST-MODIFIED:20240108T184353Z
UID:4666-1706947200-1706958000@highlandterracepta.org
SUMMARY:Pancake Breakfast
DESCRIPTION:Join us for HT’s annual Pancake Breakfast\, one of our favorite and longest-running school and community events. Now in its 63rd year! \nSee the Pancake Breakfast page for complete details. The Scholastic Book Fair will also be kicking off in the library during the event.
URL:https://highlandterracepta.org/event/pancake-breakfast-2024/
LOCATION:Highland Terrace Cafeteria
ORGANIZER;CN="Highland Terrace PTA":MAILTO:highlandterracepta@gmail.com
END:VEVENT
BEGIN:VEVENT
DTSTART;TZID=America/Los_Angeles:20240210T123000
DTEND;TZID=America/Los_Angeles:20240210T143000
DTSTAMP:20260424T171312
CREATED:20240201T234459Z
LAST-MODIFIED:20240201T234459Z
UID:5204-1707568200-1707575400@highlandterracepta.org
SUMMARY:Hi-Cap Board Game Playdate
DESCRIPTION:Hosted by Shoreline PTA Council\, Hi-Cap Advocacy Committee \nPlease join us at Spartan Recreation Center for a fun afternoon of family board games. Feel free to bring your favorite board games and snacks to share. This is a great chance for students and grown-ups to meet others in the Shoreline Hi-Cap community. All are welcome! \nQuestions? Contact hi-cap@shorelinepta.org \n  \n 
URL:https://highlandterracepta.org/event/hi-cap-playdate-feb-2024/
LOCATION:Spartan Recreation Center\, 202 NE 185th St\, Shoreline\, WA\, 98155
CATEGORIES:Advocacy
END:VEVENT
BEGIN:VEVENT
DTSTART;TZID=America/Los_Angeles:20240213T183000
DTEND;TZID=America/Los_Angeles:20240213T200000
DTSTAMP:20260424T171312
CREATED:20230826T064339Z
LAST-MODIFIED:20231003T184552Z
UID:4687-1707849000-1707854400@highlandterracepta.org
SUMMARY:HTPTA February General Membership Meeting
DESCRIPTION:Join us for HTPTA’s February General Membership meeting in the Highland Terrace Library.
URL:https://highlandterracepta.org/event/february-2024-general-membership-meeting/
LOCATION:Highland Terrace Library\, 100 N 160th St\, Shoreline\, WA\, 98133
CATEGORIES:PTA Meeting
ORGANIZER;CN="Highland Terrace PTA":MAILTO:highlandterracepta@gmail.com
END:VEVENT
BEGIN:VEVENT
DTSTART;TZID=America/Los_Angeles:20240226T183000
DTEND;TZID=America/Los_Angeles:20240226T200000
DTSTAMP:20260424T171312
CREATED:20231127T194951Z
LAST-MODIFIED:20231127T195429Z
UID:5067-1708972200-1708977600@highlandterracepta.org
SUMMARY:Stronger Together Parent Group Meeting
DESCRIPTION:A free and welcoming group for any parent or guardian in the Shoreline School District\, organized by Shoreline PTA Council’s Mental Health Committee. \nWe meet in an open and safe space to connect with each other\, share wisdom\, struggles\, information\, and grow together with compassion and kindness. Meetings are facilitated by a local parent and do not provide professional advice. \nLight refreshments provided. \nMeetings are held at The WORKS office\, located on the north side of the Shoreline Center. \nMeeting dates: \n\nMonday\, November 27\, 6:30-8:00pm\nMonday\, January 22\, 6:30-8:00pm\nMonday\, February 26\, 6:30-8:00pm\n\n 
URL:https://highlandterracepta.org/event/stronger-together-feb-2024/
LOCATION:Shoreline Center\, 18560 1st Ave NE\, Shoreline\, WA\, 98155
END:VEVENT
END:VCALENDAR