BEGIN:VCALENDAR
VERSION:2.0
PRODID:-//Highland Terrace PTA - ECPv6.15.20//NONSGML v1.0//EN
CALSCALE:GREGORIAN
METHOD:PUBLISH
X-WR-CALNAME:Highland Terrace PTA
X-ORIGINAL-URL:https://highlandterracepta.org
X-WR-CALDESC:Events for Highland Terrace PTA
REFRESH-INTERVAL;VALUE=DURATION:PT1H
X-Robots-Tag:noindex
X-PUBLISHED-TTL:PT1H
BEGIN:VTIMEZONE
TZID:America/Los_Angeles
BEGIN:DAYLIGHT
TZOFFSETFROM:-0800
TZOFFSETTO:-0700
TZNAME:PDT
DTSTART:20220313T100000
END:DAYLIGHT
BEGIN:STANDARD
TZOFFSETFROM:-0700
TZOFFSETTO:-0800
TZNAME:PST
DTSTART:20221106T090000
END:STANDARD
BEGIN:DAYLIGHT
TZOFFSETFROM:-0800
TZOFFSETTO:-0700
TZNAME:PDT
DTSTART:20230312T100000
END:DAYLIGHT
BEGIN:STANDARD
TZOFFSETFROM:-0700
TZOFFSETTO:-0800
TZNAME:PST
DTSTART:20231105T090000
END:STANDARD
BEGIN:DAYLIGHT
TZOFFSETFROM:-0800
TZOFFSETTO:-0700
TZNAME:PDT
DTSTART:20240310T100000
END:DAYLIGHT
BEGIN:STANDARD
TZOFFSETFROM:-0700
TZOFFSETTO:-0800
TZNAME:PST
DTSTART:20241103T090000
END:STANDARD
END:VTIMEZONE
BEGIN:VEVENT
DTSTART;TZID=America/Los_Angeles:20231107T180000
DTEND;TZID=America/Los_Angeles:20231107T193000
DTSTAMP:20260424T211107
CREATED:20230826T053646Z
LAST-MODIFIED:20230923T010450Z
UID:4656-1699380000-1699385400@highlandterracepta.org
SUMMARY:Festival of Cultures
DESCRIPTION:We hope everyone can join us for this free community event celebrating the many cultures\, heritages\, countries\, and states of origin represented in our HT community. \nCheck out the Festival of Cultures page for details.
URL:https://highlandterracepta.org/event/festival-of-cultures-fall-2023/
LOCATION:Highland Terrace Gym\, 100 N 160th St\, Shoreline\, WA\, 98133
ORGANIZER;CN="Highland Terrace PTA":MAILTO:highlandterracepta@gmail.com
END:VEVENT
BEGIN:VEVENT
DTSTART;VALUE=DATE:20231117
DTEND;VALUE=DATE:20231118
DTSTAMP:20260424T211107
CREATED:20230826T055131Z
LAST-MODIFIED:20231109T195610Z
UID:4660-1700179200-1700265599@highlandterracepta.org
SUMMARY:Reflections Entries Due
DESCRIPTION:Final day to submit artwork for the 2023-24 Reflections Art Program. This year’s theme is “I am Hopeful Because…”. \n \nFor complete information about the program\, see the Reflections page. \nEntry forms will be sent home by teachers in November. You can also download the Reflections Entry Form here. \nTo enter\, complete the entry form and turn it in along with your artwork to the HT front office or email to htptareflections@gmail.com.
URL:https://highlandterracepta.org/event/reflections-2023-deadline/
LOCATION:Highland Terrace Elementary\, 100 N 160th St\, Shoreline\, WA\, 98133
CATEGORIES:Enrichment
ORGANIZER;CN="Highland Terrace PTA":MAILTO:highlandterracepta@gmail.com
END:VEVENT
BEGIN:VEVENT
DTSTART;TZID=America/Los_Angeles:20231117T170000
DTEND;TZID=America/Los_Angeles:20231117T190000
DTSTAMP:20260424T211107
CREATED:20230826T054011Z
LAST-MODIFIED:20231028T073029Z
UID:4658-1700240400-1700247600@highlandterracepta.org
SUMMARY:Skate Night
DESCRIPTION:Our first skating party of the year! Everyone loves skate night. \nCost is $10 per skater (roller blades are $4 extra). No charge for anyone not skating. \nScholarships are available – email highlandterracepta@gmail.com to inquire.
URL:https://highlandterracepta.org/event/skate-night-nov-2023/
LOCATION:Lynnwood Bowl & Skate\, 6210 200th St SW\, Lynnwood\, Washington\, 98036
CATEGORIES:Skate Night
ORGANIZER;CN="Highland Terrace PTA":MAILTO:highlandterracepta@gmail.com
END:VEVENT
BEGIN:VEVENT
DTSTART;TZID=America/Los_Angeles:20231121T183000
DTEND;TZID=America/Los_Angeles:20231121T200000
DTSTAMP:20260424T211107
CREATED:20230826T063353Z
LAST-MODIFIED:20231003T184553Z
UID:4680-1700591400-1700596800@highlandterracepta.org
SUMMARY:HTPTA November Board Meeting
DESCRIPTION:All are welcome to join us at HTPTA’s November Board meeting on Tuesday\, November 21 in the Highland Terrace Library.
URL:https://highlandterracepta.org/event/november-2023-board-meeting/
LOCATION:Highland Terrace Library\, 100 N 160th St\, Shoreline\, WA\, 98133
CATEGORIES:PTA Meeting
ORGANIZER;CN="Highland Terrace PTA":MAILTO:highlandterracepta@gmail.com
END:VEVENT
BEGIN:VEVENT
DTSTART;TZID=America/Los_Angeles:20231127T183000
DTEND;TZID=America/Los_Angeles:20231127T200000
DTSTAMP:20260424T211107
CREATED:20231127T193458Z
LAST-MODIFIED:20231127T193458Z
UID:5058-1701109800-1701115200@highlandterracepta.org
SUMMARY:Stronger Together Parent Group Meeting
DESCRIPTION:Shoreline PTA Council’s Mental Health Committee is kicking off this free and welcoming group for any parent or guardian in the Shoreline School District. \nWe will meet in an open and safe space to connect with each other\, share wisdom\, struggles\, information\, and grow together with compassion and kindness. Meetings will be facilitated by a local parent and will not provide professional advice. \nLight refreshments will be provided. \nMeetings will be held at The WORKS office\, located on the north side of the Shoreline Center. \nMeeting dates: \n\nMonday\, November 27\, 6:30-8:00pm\nMonday\, January 22\, 6:30-8:00pm\nMonday\, February 26\, 6:30-8:00pm\n\n 
URL:https://highlandterracepta.org/event/stronger-together-nov-2023/
LOCATION:Shoreline Center\, 18560 1st Ave NE\, Shoreline\, WA\, 98155
END:VEVENT
BEGIN:VEVENT
DTSTART;TZID=America/Los_Angeles:20231129T183000
DTEND;TZID=America/Los_Angeles:20231129T210000
DTSTAMP:20260424T211107
CREATED:20231119T042027Z
LAST-MODIFIED:20231119T042027Z
UID:5044-1701282600-1701291600@highlandterracepta.org
SUMMARY:Smart Is Not Easy: Parent Talk with Austina De Bonte
DESCRIPTION:Join us for a memorable evening! Organized by the Shoreline HiCap Advocacy Committee. \nDoors open at 6:30pm\, event begins at 7pm. \nZoom link available by request–contact hi-cap@shorelinepta.org. \nHear about the latest research and neuroscience about highly capable learners\, informing the most pressing concerns students are facing at home as well as in the classroom. By framing HiCap needs in the broader context of neurodiversity\, we’ll consider the social-emotional characteristics of HiCap learners\, ranging from social development\, perfectionism\, and twice exceptionality to grit and executive function difficulties\, as well as the recent neuroscience that is helping explain where these characteristics may be originating. \nAustina De Bonte is a consultant\, speaker\, and advocate for gifted and 2E students with Smart is not Easy. She is President of the WA Coalition for Gifted Education and a member of the WA State HiCap Advisory Board.
URL:https://highlandterracepta.org/event/parent-talk-austina-de-bonte/
LOCATION:Kellogg Middle School\, 16045 25th Ave NE\, Shoreline\, WA\, 98155
CATEGORIES:Advocacy
END:VEVENT
END:VCALENDAR