BEGIN:VCALENDAR
VERSION:2.0
PRODID:-//Highland Terrace PTA - ECPv6.15.20//NONSGML v1.0//EN
CALSCALE:GREGORIAN
METHOD:PUBLISH
X-ORIGINAL-URL:https://highlandterracepta.org
X-WR-CALDESC:Events for Highland Terrace PTA
REFRESH-INTERVAL;VALUE=DURATION:PT1H
X-Robots-Tag:noindex
X-PUBLISHED-TTL:PT1H
BEGIN:VTIMEZONE
TZID:America/Los_Angeles
BEGIN:DAYLIGHT
TZOFFSETFROM:-0800
TZOFFSETTO:-0700
TZNAME:PDT
DTSTART:20210314T100000
END:DAYLIGHT
BEGIN:STANDARD
TZOFFSETFROM:-0700
TZOFFSETTO:-0800
TZNAME:PST
DTSTART:20211107T090000
END:STANDARD
BEGIN:DAYLIGHT
TZOFFSETFROM:-0800
TZOFFSETTO:-0700
TZNAME:PDT
DTSTART:20220313T100000
END:DAYLIGHT
BEGIN:STANDARD
TZOFFSETFROM:-0700
TZOFFSETTO:-0800
TZNAME:PST
DTSTART:20221106T090000
END:STANDARD
BEGIN:DAYLIGHT
TZOFFSETFROM:-0800
TZOFFSETTO:-0700
TZNAME:PDT
DTSTART:20230312T100000
END:DAYLIGHT
BEGIN:STANDARD
TZOFFSETFROM:-0700
TZOFFSETTO:-0800
TZNAME:PST
DTSTART:20231105T090000
END:STANDARD
END:VTIMEZONE
BEGIN:VEVENT
DTSTART;TZID=America/Los_Angeles:20221202T170000
DTEND;TZID=America/Los_Angeles:20221202T190000
DTSTAMP:20260425T125937
CREATED:20221101T223254Z
LAST-MODIFIED:20221101T223254Z
UID:3561-1670000400-1670007600@highlandterracepta.org
SUMMARY:Skate Night
DESCRIPTION:Mark your calendars for Friday\, December 2nd for Skate Night. Head on over to Lynnwood Bowl & Skate between 5pm and 7pm and get ready to roll! \nCost is $8.50\, which includes admission and skate rentals (roller blades are an additional $4)\, and there’s no cost for those folks not skating.
URL:https://highlandterracepta.org/event/skate-night/
LOCATION:Lynnwood Bowl & Skate\, 6210 200th St SW\, Lynnwood\, Washington\, 98036
ORGANIZER;CN="Highland Terrace PTA":MAILTO:highlandterracepta@gmail.com
END:VEVENT
BEGIN:VEVENT
DTSTART;VALUE=DATE:20221210
DTEND;VALUE=DATE:20221211
DTSTAMP:20260425T125937
CREATED:20221208T230120Z
LAST-MODIFIED:20221208T230120Z
UID:3632-1670630400-1670716799@highlandterracepta.org
SUMMARY:Holiday Basket Pickup Event
DESCRIPTION:Holiday Basket gift pickup is on December 10 at Dale Turner Family YMCA. \nVolunteers are still needed to help out at the event. Click here to sign up as a volunteer
URL:https://highlandterracepta.org/event/holiday-basket-pickup/
LOCATION:Dale Turner Family YMCA\, 19290 Aurora Ave N\, Shoreline\, WA\, 98133\, United States
END:VEVENT
BEGIN:VEVENT
DTSTART;TZID=America/Los_Angeles:20221214T090000
DTEND;TZID=America/Los_Angeles:20221215T100000
DTSTAMP:20260425T125937
CREATED:20221208T232129Z
LAST-MODIFIED:20221208T232129Z
UID:3754-1671008400-1671098400@highlandterracepta.org
SUMMARY:Holiday Cookie Exchange Dropoff
DESCRIPTION:Drop off cookies for the Holiday Cookie Exchange for Highland Terrace staff at the front office starting on Wednesday\, December 14 through no later than 10AM on Thursday\, December 15. \nIf you’d like to contribute cookies\, click here to sign up
URL:https://highlandterracepta.org/event/holiday-cookie-exchange-dropoff/
LOCATION:Highland Terrace Elementary\, 100 N 160th St\, Shoreline\, WA\, 98133
ORGANIZER;CN="Highland Terrace PTA":MAILTO:highlandterracepta@gmail.com
END:VEVENT
BEGIN:VEVENT
DTSTART;TZID=America/Los_Angeles:20221214T183000
DTEND;TZID=America/Los_Angeles:20221214T200000
DTSTAMP:20260425T125937
CREATED:20221102T065800Z
LAST-MODIFIED:20221116T193650Z
UID:3576-1671042600-1671048000@highlandterracepta.org
SUMMARY:HTPTA December Board Meeting
DESCRIPTION:HTPTA’s December Board meeting will be held on Wednesday\, December 14th\, rescheduled from Tuesday the 13th. All are welcome!
URL:https://highlandterracepta.org/event/december-2022-board-meeting/
LOCATION:Highland Terrace Library\, 100 N 160th St\, Shoreline\, WA\, 98133
END:VEVENT
END:VCALENDAR