BEGIN:VCALENDAR
VERSION:2.0
PRODID:-//Highland Terrace PTA - ECPv6.15.20//NONSGML v1.0//EN
CALSCALE:GREGORIAN
METHOD:PUBLISH
X-ORIGINAL-URL:https://highlandterracepta.org
X-WR-CALDESC:Events for Highland Terrace PTA
REFRESH-INTERVAL;VALUE=DURATION:PT1H
X-Robots-Tag:noindex
X-PUBLISHED-TTL:PT1H
BEGIN:VTIMEZONE
TZID:America/Los_Angeles
BEGIN:DAYLIGHT
TZOFFSETFROM:-0800
TZOFFSETTO:-0700
TZNAME:PDT
DTSTART:20190310T100000
END:DAYLIGHT
BEGIN:STANDARD
TZOFFSETFROM:-0700
TZOFFSETTO:-0800
TZNAME:PST
DTSTART:20191103T090000
END:STANDARD
BEGIN:DAYLIGHT
TZOFFSETFROM:-0800
TZOFFSETTO:-0700
TZNAME:PDT
DTSTART:20200308T100000
END:DAYLIGHT
BEGIN:STANDARD
TZOFFSETFROM:-0700
TZOFFSETTO:-0800
TZNAME:PST
DTSTART:20201101T090000
END:STANDARD
BEGIN:DAYLIGHT
TZOFFSETFROM:-0800
TZOFFSETTO:-0700
TZNAME:PDT
DTSTART:20210314T100000
END:DAYLIGHT
BEGIN:STANDARD
TZOFFSETFROM:-0700
TZOFFSETTO:-0800
TZNAME:PST
DTSTART:20211107T090000
END:STANDARD
BEGIN:DAYLIGHT
TZOFFSETFROM:-0800
TZOFFSETTO:-0700
TZNAME:PDT
DTSTART:20220313T100000
END:DAYLIGHT
BEGIN:STANDARD
TZOFFSETFROM:-0700
TZOFFSETTO:-0800
TZNAME:PST
DTSTART:20221106T090000
END:STANDARD
BEGIN:DAYLIGHT
TZOFFSETFROM:-0800
TZOFFSETTO:-0700
TZNAME:PDT
DTSTART:20230312T100000
END:DAYLIGHT
BEGIN:STANDARD
TZOFFSETFROM:-0700
TZOFFSETTO:-0800
TZNAME:PST
DTSTART:20231105T090000
END:STANDARD
BEGIN:DAYLIGHT
TZOFFSETFROM:-0800
TZOFFSETTO:-0700
TZNAME:PDT
DTSTART:20240310T100000
END:DAYLIGHT
BEGIN:STANDARD
TZOFFSETFROM:-0700
TZOFFSETTO:-0800
TZNAME:PST
DTSTART:20241103T090000
END:STANDARD
END:VTIMEZONE
BEGIN:VEVENT
DTSTART;TZID=America/Los_Angeles:20230120T173000
DTEND;TZID=America/Los_Angeles:20230120T190000
DTSTAMP:20260423T172631
CREATED:20230110T071654Z
LAST-MODIFIED:20230112T212544Z
UID:3788-1674235800-1674241200@highlandterracepta.org
SUMMARY:Math Night
DESCRIPTION:Come join us for a fun night of math games in the Highland Terrace gym. Games are designed to be quick to learn\, fun\, and easily reproducible at home. Hosted by Mathnasium of Shoreline.
URL:https://highlandterracepta.org/event/math-night/
LOCATION:Highland Terrace Gym\, 100 N 160th St\, Shoreline\, WA\, 98133
END:VEVENT
BEGIN:VEVENT
DTSTART;TZID=America/Los_Angeles:20230111T183000
DTEND;TZID=America/Los_Angeles:20230111T194500
DTSTAMP:20260423T172631
CREATED:20230111T185344Z
LAST-MODIFIED:20230111T185344Z
UID:3886-1673461800-1673466300@highlandterracepta.org
SUMMARY:Reflections Artist Reception & Art Showcase
DESCRIPTION:Come see some amazing Shoreline student talent on display at this year’s Reflections Artist Reception and Art Showcase in the Shoreline Room at the Shoreline Center. The doors to the reception can be found at the north end of the building\, near the theater and soccer fields.
URL:https://highlandterracepta.org/event/reflections-artist-reception/
LOCATION:Shoreline Center\, 18560 1st Ave NE\, Shoreline\, WA\, 98155
END:VEVENT
BEGIN:VEVENT
DTSTART;TZID=America/Los_Angeles:20230110T183000
DTEND;TZID=America/Los_Angeles:20230110T200000
DTSTAMP:20260423T172631
CREATED:20221116T194227Z
LAST-MODIFIED:20221116T194227Z
UID:3668-1673375400-1673380800@highlandterracepta.org
SUMMARY:HTPTA January Board Meeting
DESCRIPTION:Join us for HTPTA’s January Board meeting on Tuesday\, January 10th in the Highland Terrace Library. All are welcome!
URL:https://highlandterracepta.org/event/january-2023-board-meeting/
LOCATION:Highland Terrace Library\, 100 N 160th St\, Shoreline\, WA\, 98133
END:VEVENT
BEGIN:VEVENT
DTSTART;TZID=America/Los_Angeles:20221214T183000
DTEND;TZID=America/Los_Angeles:20221214T200000
DTSTAMP:20260423T172631
CREATED:20221102T065800Z
LAST-MODIFIED:20221116T193650Z
UID:3576-1671042600-1671048000@highlandterracepta.org
SUMMARY:HTPTA December Board Meeting
DESCRIPTION:HTPTA’s December Board meeting will be held on Wednesday\, December 14th\, rescheduled from Tuesday the 13th. All are welcome!
URL:https://highlandterracepta.org/event/december-2022-board-meeting/
LOCATION:Highland Terrace Library\, 100 N 160th St\, Shoreline\, WA\, 98133
END:VEVENT
BEGIN:VEVENT
DTSTART;TZID=America/Los_Angeles:20221214T090000
DTEND;TZID=America/Los_Angeles:20221215T100000
DTSTAMP:20260423T172631
CREATED:20221208T232129Z
LAST-MODIFIED:20221208T232129Z
UID:3754-1671008400-1671098400@highlandterracepta.org
SUMMARY:Holiday Cookie Exchange Dropoff
DESCRIPTION:Drop off cookies for the Holiday Cookie Exchange for Highland Terrace staff at the front office starting on Wednesday\, December 14 through no later than 10AM on Thursday\, December 15. \nIf you’d like to contribute cookies\, click here to sign up
URL:https://highlandterracepta.org/event/holiday-cookie-exchange-dropoff/
LOCATION:Highland Terrace Elementary\, 100 N 160th St\, Shoreline\, WA\, 98133
ORGANIZER;CN="Highland Terrace PTA":MAILTO:highlandterracepta@gmail.com
END:VEVENT
BEGIN:VEVENT
DTSTART;VALUE=DATE:20221210
DTEND;VALUE=DATE:20221211
DTSTAMP:20260423T172631
CREATED:20221208T230120Z
LAST-MODIFIED:20221208T230120Z
UID:3632-1670630400-1670716799@highlandterracepta.org
SUMMARY:Holiday Basket Pickup Event
DESCRIPTION:Holiday Basket gift pickup is on December 10 at Dale Turner Family YMCA. \nVolunteers are still needed to help out at the event. Click here to sign up as a volunteer
URL:https://highlandterracepta.org/event/holiday-basket-pickup/
LOCATION:Dale Turner Family YMCA\, 19290 Aurora Ave N\, Shoreline\, WA\, 98133\, United States
END:VEVENT
BEGIN:VEVENT
DTSTART;TZID=America/Los_Angeles:20221202T170000
DTEND;TZID=America/Los_Angeles:20221202T190000
DTSTAMP:20260423T172631
CREATED:20221101T223254Z
LAST-MODIFIED:20221101T223254Z
UID:3561-1670000400-1670007600@highlandterracepta.org
SUMMARY:Skate Night
DESCRIPTION:Mark your calendars for Friday\, December 2nd for Skate Night. Head on over to Lynnwood Bowl & Skate between 5pm and 7pm and get ready to roll! \nCost is $8.50\, which includes admission and skate rentals (roller blades are an additional $4)\, and there’s no cost for those folks not skating.
URL:https://highlandterracepta.org/event/skate-night/
LOCATION:Lynnwood Bowl & Skate\, 6210 200th St SW\, Lynnwood\, Washington\, 98036
ORGANIZER;CN="Highland Terrace PTA":MAILTO:highlandterracepta@gmail.com
END:VEVENT
BEGIN:VEVENT
DTSTART;TZID=America/Los_Angeles:20221108T183000
DTEND;TZID=America/Los_Angeles:20221108T200000
DTSTAMP:20260423T172631
CREATED:20221116T195027Z
LAST-MODIFIED:20221116T195027Z
UID:3671-1667932200-1667937600@highlandterracepta.org
SUMMARY:HTPTA November Board Meeting
DESCRIPTION:Join us for HTPTA’s November Board meeting on Tuesday\, November 8th in the Highland Terrace Library. All are welcome.
URL:https://highlandterracepta.org/event/november-2022-board-meeting/
LOCATION:Highland Terrace Library\, 100 N 160th St\, Shoreline\, WA\, 98133
END:VEVENT
BEGIN:VEVENT
DTSTART;TZID=America/Los_Angeles:20221030T150000
DTEND;TZID=America/Los_Angeles:20221030T160000
DTSTAMP:20260423T172631
CREATED:20221010T192228Z
LAST-MODIFIED:20221010T192228Z
UID:3436-1667142000-1667145600@highlandterracepta.org
SUMMARY:Halloween Costume Corral
DESCRIPTION:SHOW OFF YOUR HALLOWEEN COSTUMES! \nCome to Sunset Park on Sunday\, October 30th from 3-4pm for some Halloween fun! \nThis is an informal event for kids (and adults!) to share costumes at the park to kick off some holiday fun.
URL:https://highlandterracepta.org/event/halloween-costume-corral/
LOCATION:Sunset Park\, 17840 10th Ave NW\, Shoreline\, WA\, 98177
ORGANIZER;CN="Highland Terrace PTA":MAILTO:highlandterracepta@gmail.com
END:VEVENT
BEGIN:VEVENT
DTSTART;TZID=America/Los_Angeles:20221014T181500
DTEND;TZID=America/Los_Angeles:20221014T203000
DTSTAMP:20260423T172631
CREATED:20221004T200005Z
LAST-MODIFIED:20221010T074816Z
UID:3385-1665771300-1665779400@highlandterracepta.org
SUMMARY:Family Movie Night
DESCRIPTION:Join us for an IN-PERSON movie night in the Highland Terrace gym. \nMovie: Hotel Transylvania \nFeel free to come in jammies with your favorite stuffie\, a water bottle\, camping chairs\, blankets\, pillows\, etc. HTPTA will provide the popcorn and movie\, and gym mats will be available on the floor. \nDoors open at 6:15pm.  \nNOTE: This is not a drop-off event – adult supervision is required. \nQuestions? Email highlandterracepta@gmail.com
URL:https://highlandterracepta.org/event/family-movie-night/
LOCATION:Highland Terrace Gym\, 100 N 160th St\, Shoreline\, WA\, 98133
END:VEVENT
BEGIN:VEVENT
DTSTART;TZID=America/Los_Angeles:20221011T183000
DTEND;TZID=America/Los_Angeles:20221011T200000
DTSTAMP:20260423T172631
CREATED:20221004T191155Z
LAST-MODIFIED:20221004T191155Z
UID:3382-1665513000-1665518400@highlandterracepta.org
SUMMARY:HTPTA October Board Meeting
DESCRIPTION:Join us for HTPTA’s next Board meeting on Tuesday\, October 11. All are welcome!
URL:https://highlandterracepta.org/event/htpta-october-board-meeting/
LOCATION:Highland Terrace Library\, 100 N 160th St\, Shoreline\, WA\, 98133
END:VEVENT
BEGIN:VEVENT
DTSTART;TZID=America/Los_Angeles:20220412T183000
DTEND;TZID=America/Los_Angeles:20220412T193000
DTSTAMP:20260423T172631
CREATED:20220329T044414Z
LAST-MODIFIED:20220329T044618Z
UID:3117-1649788200-1649791800@highlandterracepta.org
SUMMARY:HTPTA General Membership Meeting & Principal Conversation (via Zoom)
DESCRIPTION:We will be voting in the 2022-2023 Executive Committee – nominations include Co-Presidents Christel Cangas and Kathryne Shrewsbury\, Vice President of Student Affairs Jenn Aker\, Treasurer Julie Kruger and Secretary Missy Sherrard.  We will also be voting on the proposed 2022-2023 Budget. \nView the agenda HERE.  All are welcome! \nStay afterwards to have an informal  conversation with Principal Drew.  Have questions for Principal Drew? Email highlandterracepta@gmail.com and we’ll make sure they are included! \nZoom link and passcode will be posted to ParentSquare on Monday\, April 11th.
URL:https://highlandterracepta.org/event/htpta-general-membership-meeting-principal-conversation-via-zoom/
END:VEVENT
BEGIN:VEVENT
DTSTART;TZID=America/Los_Angeles:20220304T190000
DTEND;TZID=America/Los_Angeles:20220304T194500
DTSTAMP:20260423T172631
CREATED:20220201T060332Z
LAST-MODIFIED:20220201T060345Z
UID:3069-1646420400-1646423100@highlandterracepta.org
SUMMARY:HT Hip Hop Kids Dance Party
DESCRIPTION:SAVE THE DATE – We’ll dance and move and shake and boogie from our living rooms!  7pm kicks off this fun FREE event for every HT family – Zoom information to be posted in ParentSquare. \n 
URL:https://highlandterracepta.org/event/ht-hip-hop-kids-dance-party/
LOCATION:Zoom
END:VEVENT
BEGIN:VEVENT
DTSTART;TZID=America/Los_Angeles:20220215T183000
DTEND;TZID=America/Los_Angeles:20220215T200000
DTSTAMP:20260423T172631
CREATED:20220108T000440Z
LAST-MODIFIED:20220204T221043Z
UID:3019-1644949800-1644955200@highlandterracepta.org
SUMMARY:HTPTA General Membership Meeting & Principal Conversation (via Zoom)
DESCRIPTION:We will be hearing from HT Librarian Joy Burke about plans for a multi-year Library Refresh\, and vote on funding this effort this year as well as electing our Nominating Committee.  View the agenda HERE.  All are welcome! \nStay afterwards to have an informal  conversation with Principal Drew.  Have questions for Principal Drew? Email highlandterracepta@gmail.com and we’ll make sure they are included! \nZoom link and passcode will be posted to ParentSquare on Monday\, February 14th.
URL:https://highlandterracepta.org/event/pta-general-membership-meeting-via-zoom/
END:VEVENT
BEGIN:VEVENT
DTSTART;TZID=America/Los_Angeles:20220111T183000
DTEND;TZID=America/Los_Angeles:20220111T200000
DTSTAMP:20260423T172631
CREATED:20220108T000105Z
LAST-MODIFIED:20220108T000105Z
UID:3016-1641925800-1641931200@highlandterracepta.org
SUMMARY:PTA Board Meeting January 11\, 2022 (via Zoom)
DESCRIPTION:All are welcome to attend. Please email highlandterracepta@gmail.com to request a zoom link to attend!
URL:https://highlandterracepta.org/event/pta-board-meeting-january-11-2022-via-zoom/
END:VEVENT
BEGIN:VEVENT
DTSTART;TZID=America/Los_Angeles:20211214T183000
DTEND;TZID=America/Los_Angeles:20211214T200000
DTSTAMP:20260423T172631
CREATED:20211001T183753Z
LAST-MODIFIED:20211001T183753Z
UID:2847-1639506600-1639512000@highlandterracepta.org
SUMMARY:December 2021 Board Meeting (via Zoom)
DESCRIPTION:
URL:https://highlandterracepta.org/event/december-2021-board-meeting-via-zoom/
LOCATION:Zoom
END:VEVENT
BEGIN:VEVENT
DTSTART;TZID=America/Los_Angeles:20211116T183000
DTEND;TZID=America/Los_Angeles:20211116T200000
DTSTAMP:20260423T172631
CREATED:20211001T183714Z
LAST-MODIFIED:20211001T183714Z
UID:2845-1637087400-1637092800@highlandterracepta.org
SUMMARY:November 2021 Board Meeting (via Zoom)
DESCRIPTION:
URL:https://highlandterracepta.org/event/november-2021-board-meeting-via-zoom/
LOCATION:Zoom
END:VEVENT
BEGIN:VEVENT
DTSTART;TZID=America/Los_Angeles:20211031T150000
DTEND;TZID=America/Los_Angeles:20211031T160000
DTSTAMP:20260423T172631
CREATED:20211021T152716Z
LAST-MODIFIED:20211021T152716Z
UID:2889-1635692400-1635696000@highlandterracepta.org
SUMMARY:Costume Corrale
DESCRIPTION:🎃 Come to Sunset Park on 10/31 from 3-4pm for some Halloween fun!\nThis is an informal event for kids (and adults!) to share costumes at the park before they head out for the evening.\n(There is no schedule or activities planned. It is just a simple meet up.) 🎃
URL:https://highlandterracepta.org/event/costume-corrale/
END:VEVENT
BEGIN:VEVENT
DTSTART;TZID=America/Los_Angeles:20211012T183000
DTEND;TZID=America/Los_Angeles:20211012T200000
DTSTAMP:20260423T172631
CREATED:20211001T183627Z
LAST-MODIFIED:20211001T183627Z
UID:2842-1634063400-1634068800@highlandterracepta.org
SUMMARY:October 2021 Board Meeting (via Zoom)
DESCRIPTION:
URL:https://highlandterracepta.org/event/october-2021-board-meeting-via-zoom/
LOCATION:Zoom
END:VEVENT
BEGIN:VEVENT
DTSTART;TZID=America/Los_Angeles:20210518T183000
DTEND;TZID=America/Los_Angeles:20210518T200000
DTSTAMP:20260423T172631
CREATED:20200921T233344Z
LAST-MODIFIED:20200921T233344Z
UID:2178-1621362600-1621368000@highlandterracepta.org
SUMMARY:PTA Board Meeting
DESCRIPTION:Please email highlandterracepta@gmail.com to request for the link to the Zoom meeting.
URL:https://highlandterracepta.org/event/pta-board-meeting-16/
END:VEVENT
BEGIN:VEVENT
DTSTART;TZID=America/Los_Angeles:20210413T183000
DTEND;TZID=America/Los_Angeles:20210413T200000
DTSTAMP:20260423T172631
CREATED:20200921T233316Z
LAST-MODIFIED:20200921T233316Z
UID:2176-1618338600-1618344000@highlandterracepta.org
SUMMARY:General PTA Meeting
DESCRIPTION:Please email highlandterracepta@gmail.com to request for the link to the Zoom meeting.
URL:https://highlandterracepta.org/event/general-pta-meeting-2/
END:VEVENT
BEGIN:VEVENT
DTSTART;TZID=America/Los_Angeles:20210316T183000
DTEND;TZID=America/Los_Angeles:20210316T200000
DTSTAMP:20260423T172631
CREATED:20200921T233244Z
LAST-MODIFIED:20200921T233244Z
UID:2174-1615919400-1615924800@highlandterracepta.org
SUMMARY:PTA Board Meeting
DESCRIPTION:Please email highlandterracepta@gmail.com to request for the link to the Zoom meeting.
URL:https://highlandterracepta.org/event/pta-board-meeting-15/
END:VEVENT
BEGIN:VEVENT
DTSTART;TZID=America/Los_Angeles:20210223T183000
DTEND;TZID=America/Los_Angeles:20210223T200000
DTSTAMP:20260423T172631
CREATED:20200921T233213Z
LAST-MODIFIED:20200921T233213Z
UID:2172-1614105000-1614110400@highlandterracepta.org
SUMMARY:General PTA Meeting
DESCRIPTION:Please email highlandterracepta@gmail.com to request for the link to the Zoom meeting.
URL:https://highlandterracepta.org/event/general-pta-meeting/
END:VEVENT
BEGIN:VEVENT
DTSTART;TZID=America/Los_Angeles:20210119T183000
DTEND;TZID=America/Los_Angeles:20210119T200000
DTSTAMP:20260423T172631
CREATED:20200921T233125Z
LAST-MODIFIED:20200921T233140Z
UID:2170-1611081000-1611086400@highlandterracepta.org
SUMMARY:PTA Board Meeting
DESCRIPTION:Please email highlandterracepta@gmail.com to request for the link to the Zoom meeting.
URL:https://highlandterracepta.org/event/pta-board-meeting-14/
END:VEVENT
BEGIN:VEVENT
DTSTART;TZID=America/Los_Angeles:20201215T183000
DTEND;TZID=America/Los_Angeles:20201215T200000
DTSTAMP:20260423T172631
CREATED:20200921T233058Z
LAST-MODIFIED:20200921T233058Z
UID:2168-1608057000-1608062400@highlandterracepta.org
SUMMARY:PTA Board Meeting
DESCRIPTION:Please email highlandterracepta@gmail.com to request for the link to the Zoom meeting.
URL:https://highlandterracepta.org/event/pta-board-meeting-13/
END:VEVENT
BEGIN:VEVENT
DTSTART;TZID=America/Los_Angeles:20201212T100000
DTEND;TZID=America/Los_Angeles:20201212T120000
DTSTAMP:20260423T172631
CREATED:20201118T035249Z
LAST-MODIFIED:20201118T035249Z
UID:2389-1607767200-1607774400@highlandterracepta.org
SUMMARY:COAT DRIVE FOR THE WORKS
DESCRIPTION:If you have any gently used or new coats to donate to shoreline families in need\, you can drop them off at the Sunset School Park.
URL:https://highlandterracepta.org/event/coat-drive-for-the-works-3/
END:VEVENT
BEGIN:VEVENT
DTSTART;TZID=America/Los_Angeles:20201207T170000
DTEND;TZID=America/Los_Angeles:20201207T193000
DTSTAMP:20260423T172631
CREATED:20201118T035349Z
LAST-MODIFIED:20201118T035349Z
UID:2391-1607360400-1607369400@highlandterracepta.org
SUMMARY:ENJOY SPIRO’S PIZZA AND PASTA
DESCRIPTION:Monday\, Dec 7\, 5-7:30PM \nLet’s support a local family owned business during this time\, and they’ll support HT PTA by donating 15% of all sales between 5-7:30pm. Take-out or dine-in ONLY at the Shoreline location. \nEnjoy pizza\, pasta\, subs and more! \nSpiro’s (206)-546-2900\, 18411 Aurora Ave. N. Shoreline\, WA 98133
URL:https://highlandterracepta.org/event/enjoy-spiros-pizza-and-pasta/
END:VEVENT
BEGIN:VEVENT
DTSTART;TZID=America/Los_Angeles:20201130T160000
DTEND;TZID=America/Los_Angeles:20201130T180000
DTSTAMP:20260423T172631
CREATED:20201118T035136Z
LAST-MODIFIED:20201118T035136Z
UID:2387-1606752000-1606759200@highlandterracepta.org
SUMMARY:COAT DRIVE FOR THE WORKS
DESCRIPTION:If you have any gently used or new coats to donate to shoreline families in need\, you can drop them off at the Sunset School Park.
URL:https://highlandterracepta.org/event/coat-drive-for-the-works-2/
END:VEVENT
BEGIN:VEVENT
DTSTART;TZID=America/Los_Angeles:20201118T160000
DTEND;TZID=America/Los_Angeles:20201118T180000
DTSTAMP:20260423T172631
CREATED:20201118T035024Z
LAST-MODIFIED:20201118T035024Z
UID:2385-1605715200-1605722400@highlandterracepta.org
SUMMARY:COAT DRIVE FOR THE WORKS
DESCRIPTION:If you have any gently used or new coats to donate to shoreline families in need\, you can drop them off at the Sunset School Park.
URL:https://highlandterracepta.org/event/coat-drive-for-the-works/
END:VEVENT
BEGIN:VEVENT
DTSTART;TZID=America/Los_Angeles:20201117T183000
DTEND;TZID=America/Los_Angeles:20201117T200000
DTSTAMP:20260423T172631
CREATED:20200921T233034Z
LAST-MODIFIED:20200921T233034Z
UID:2166-1605637800-1605643200@highlandterracepta.org
SUMMARY:PTA Board Meeting
DESCRIPTION:Please email highlandterracepta@gmail.com to request for the link to the Zoom meeting.
URL:https://highlandterracepta.org/event/pta-board-meeting-12/
END:VEVENT
END:VCALENDAR