BEGIN:VCALENDAR
VERSION:2.0
PRODID:-//Highland Terrace PTA - ECPv6.15.20//NONSGML v1.0//EN
CALSCALE:GREGORIAN
METHOD:PUBLISH
X-WR-CALNAME:Highland Terrace PTA
X-ORIGINAL-URL:https://highlandterracepta.org
X-WR-CALDESC:Events for Highland Terrace PTA
REFRESH-INTERVAL;VALUE=DURATION:PT1H
X-Robots-Tag:noindex
X-PUBLISHED-TTL:PT1H
BEGIN:VTIMEZONE
TZID:America/Los_Angeles
BEGIN:DAYLIGHT
TZOFFSETFROM:-0800
TZOFFSETTO:-0700
TZNAME:PDT
DTSTART:20180311T100000
END:DAYLIGHT
BEGIN:STANDARD
TZOFFSETFROM:-0700
TZOFFSETTO:-0800
TZNAME:PST
DTSTART:20181104T090000
END:STANDARD
BEGIN:DAYLIGHT
TZOFFSETFROM:-0800
TZOFFSETTO:-0700
TZNAME:PDT
DTSTART:20190310T100000
END:DAYLIGHT
BEGIN:STANDARD
TZOFFSETFROM:-0700
TZOFFSETTO:-0800
TZNAME:PST
DTSTART:20191103T090000
END:STANDARD
BEGIN:DAYLIGHT
TZOFFSETFROM:-0800
TZOFFSETTO:-0700
TZNAME:PDT
DTSTART:20200308T100000
END:DAYLIGHT
BEGIN:STANDARD
TZOFFSETFROM:-0700
TZOFFSETTO:-0800
TZNAME:PST
DTSTART:20201101T090000
END:STANDARD
BEGIN:DAYLIGHT
TZOFFSETFROM:-0800
TZOFFSETTO:-0700
TZNAME:PDT
DTSTART:20210314T100000
END:DAYLIGHT
BEGIN:STANDARD
TZOFFSETFROM:-0700
TZOFFSETTO:-0800
TZNAME:PST
DTSTART:20211107T090000
END:STANDARD
BEGIN:DAYLIGHT
TZOFFSETFROM:-0800
TZOFFSETTO:-0700
TZNAME:PDT
DTSTART:20220313T100000
END:DAYLIGHT
BEGIN:STANDARD
TZOFFSETFROM:-0700
TZOFFSETTO:-0800
TZNAME:PST
DTSTART:20221106T090000
END:STANDARD
END:VTIMEZONE
BEGIN:VEVENT
DTSTART;TZID=America/Los_Angeles:20210223T183000
DTEND;TZID=America/Los_Angeles:20210223T200000
DTSTAMP:20260425T082825
CREATED:20200921T233213Z
LAST-MODIFIED:20200921T233213Z
UID:2172-1614105000-1614110400@highlandterracepta.org
SUMMARY:General PTA Meeting
DESCRIPTION:Please email highlandterracepta@gmail.com to request for the link to the Zoom meeting.
URL:https://highlandterracepta.org/event/general-pta-meeting/
LOCATION:WA
END:VEVENT
BEGIN:VEVENT
DTSTART;TZID=America/Los_Angeles:20210119T183000
DTEND;TZID=America/Los_Angeles:20210119T200000
DTSTAMP:20260425T082825
CREATED:20200921T233125Z
LAST-MODIFIED:20200921T233140Z
UID:2170-1611081000-1611086400@highlandterracepta.org
SUMMARY:PTA Board Meeting
DESCRIPTION:Please email highlandterracepta@gmail.com to request for the link to the Zoom meeting.
URL:https://highlandterracepta.org/event/pta-board-meeting-14/
LOCATION:WA
END:VEVENT
BEGIN:VEVENT
DTSTART;TZID=America/Los_Angeles:20201215T183000
DTEND;TZID=America/Los_Angeles:20201215T200000
DTSTAMP:20260425T082825
CREATED:20200921T233058Z
LAST-MODIFIED:20200921T233058Z
UID:2168-1608057000-1608062400@highlandterracepta.org
SUMMARY:PTA Board Meeting
DESCRIPTION:Please email highlandterracepta@gmail.com to request for the link to the Zoom meeting.
URL:https://highlandterracepta.org/event/pta-board-meeting-13/
LOCATION:WA
END:VEVENT
BEGIN:VEVENT
DTSTART;TZID=America/Los_Angeles:20201212T100000
DTEND;TZID=America/Los_Angeles:20201212T120000
DTSTAMP:20260425T082825
CREATED:20201118T035249Z
LAST-MODIFIED:20201118T035249Z
UID:2389-1607767200-1607774400@highlandterracepta.org
SUMMARY:COAT DRIVE FOR THE WORKS
DESCRIPTION:If you have any gently used or new coats to donate to shoreline families in need\, you can drop them off at the Sunset School Park.
URL:https://highlandterracepta.org/event/coat-drive-for-the-works-3/
LOCATION:WA
END:VEVENT
BEGIN:VEVENT
DTSTART;TZID=America/Los_Angeles:20201207T170000
DTEND;TZID=America/Los_Angeles:20201207T193000
DTSTAMP:20260425T082825
CREATED:20201118T035349Z
LAST-MODIFIED:20201118T035349Z
UID:2391-1607360400-1607369400@highlandterracepta.org
SUMMARY:ENJOY SPIRO’S PIZZA AND PASTA
DESCRIPTION:Monday\, Dec 7\, 5-7:30PM \nLet’s support a local family owned business during this time\, and they’ll support HT PTA by donating 15% of all sales between 5-7:30pm. Take-out or dine-in ONLY at the Shoreline location. \nEnjoy pizza\, pasta\, subs and more! \nSpiro’s (206)-546-2900\, 18411 Aurora Ave. N. Shoreline\, WA 98133
URL:https://highlandterracepta.org/event/enjoy-spiros-pizza-and-pasta/
LOCATION:WA
END:VEVENT
BEGIN:VEVENT
DTSTART;TZID=America/Los_Angeles:20201130T160000
DTEND;TZID=America/Los_Angeles:20201130T180000
DTSTAMP:20260425T082825
CREATED:20201118T035136Z
LAST-MODIFIED:20201118T035136Z
UID:2387-1606752000-1606759200@highlandterracepta.org
SUMMARY:COAT DRIVE FOR THE WORKS
DESCRIPTION:If you have any gently used or new coats to donate to shoreline families in need\, you can drop them off at the Sunset School Park.
URL:https://highlandterracepta.org/event/coat-drive-for-the-works-2/
LOCATION:WA
END:VEVENT
BEGIN:VEVENT
DTSTART;TZID=America/Los_Angeles:20201118T160000
DTEND;TZID=America/Los_Angeles:20201118T180000
DTSTAMP:20260425T082825
CREATED:20201118T035024Z
LAST-MODIFIED:20201118T035024Z
UID:2385-1605715200-1605722400@highlandterracepta.org
SUMMARY:COAT DRIVE FOR THE WORKS
DESCRIPTION:If you have any gently used or new coats to donate to shoreline families in need\, you can drop them off at the Sunset School Park.
URL:https://highlandterracepta.org/event/coat-drive-for-the-works/
LOCATION:WA
END:VEVENT
BEGIN:VEVENT
DTSTART;TZID=America/Los_Angeles:20201117T183000
DTEND;TZID=America/Los_Angeles:20201117T200000
DTSTAMP:20260425T082825
CREATED:20200921T233034Z
LAST-MODIFIED:20200921T233034Z
UID:2166-1605637800-1605643200@highlandterracepta.org
SUMMARY:PTA Board Meeting
DESCRIPTION:Please email highlandterracepta@gmail.com to request for the link to the Zoom meeting.
URL:https://highlandterracepta.org/event/pta-board-meeting-12/
LOCATION:WA
END:VEVENT
BEGIN:VEVENT
DTSTART;TZID=America/Los_Angeles:20201020T183000
DTEND;TZID=America/Los_Angeles:20201020T200000
DTSTAMP:20260425T082825
CREATED:20200921T232909Z
LAST-MODIFIED:20200921T232909Z
UID:2164-1603218600-1603224000@highlandterracepta.org
SUMMARY:PTA Board Meeting
DESCRIPTION:Please email highlandterracepta@gmail.com to request for the link to the Zoom meeting.
URL:https://highlandterracepta.org/event/pta-board-meeting-11/
LOCATION:WA
END:VEVENT
BEGIN:VEVENT
DTSTART;TZID=America/Los_Angeles:20200409T160000
DTEND;TZID=America/Los_Angeles:20200409T210000
DTSTAMP:20260425T082825
CREATED:20200122T232031Z
LAST-MODIFIED:20200122T232040Z
UID:1896-1586448000-1586466000@highlandterracepta.org
SUMMARY:Habit Burger - Passive Fundraiser
DESCRIPTION:Please show this form when ordering to ensure Highland Terrace PTA gets 20% of profits this evening! Thank you!
URL:https://highlandterracepta.org/event/habit-burger-passive-fundraiser-2/
LOCATION:WA
END:VEVENT
BEGIN:VEVENT
DTSTART;TZID=America/Los_Angeles:20200323T183000
DTEND;TZID=America/Los_Angeles:20200323T200000
DTSTAMP:20260425T082825
CREATED:20190905T194945Z
LAST-MODIFIED:20200315T165905Z
UID:1615-1584988200-1584993600@highlandterracepta.org
SUMMARY:PTA Board Meeting - Cancelled
DESCRIPTION:
URL:https://highlandterracepta.org/event/pta-board-meeting-10/
LOCATION:Highland Terrace Elementary\, 100 N 160th St\, Shoreline\, WA\, 98133
END:VEVENT
BEGIN:VEVENT
DTSTART;TZID=America/Los_Angeles:20200312T183000
DTEND;TZID=America/Los_Angeles:20200312T200000
DTSTAMP:20260425T082825
CREATED:20190905T195031Z
LAST-MODIFIED:20200315T165922Z
UID:1617-1584037800-1584043200@highlandterracepta.org
SUMMARY:Festival of Cultures - Cancelled
DESCRIPTION:
URL:https://highlandterracepta.org/event/festival-of-cultures/
LOCATION:Highland Terrace Cafeteria
END:VEVENT
BEGIN:VEVENT
DTSTART;TZID=America/Los_Angeles:20200312T160000
DTEND;TZID=America/Los_Angeles:20200312T210000
DTSTAMP:20260425T082825
CREATED:20200122T231822Z
LAST-MODIFIED:20200122T231908Z
UID:1893-1584028800-1584046800@highlandterracepta.org
SUMMARY:Habit Burger - Passive Fundraiser
DESCRIPTION:Please show this form when ordering to ensure Highland Terrace PTA gets 20% of profits this evening! Thank you!
URL:https://highlandterracepta.org/event/habit-burger-passive-fundraiser/
LOCATION:WA
END:VEVENT
BEGIN:VEVENT
DTSTART;TZID=America/Los_Angeles:20200305T180000
DTEND;TZID=America/Los_Angeles:20200305T200000
DTSTAMP:20260425T082825
CREATED:20200122T231657Z
LAST-MODIFIED:20200122T231657Z
UID:1891-1583431200-1583438400@highlandterracepta.org
SUMMARY:Roller Skating Night
DESCRIPTION:
URL:https://highlandterracepta.org/event/roller-skating-night/
LOCATION:Lynnwood Bowl & Skate\, 6210 200th St SW\, Lynnwood\, Washington\, 98036
END:VEVENT
BEGIN:VEVENT
DTSTART;TZID=America/Los_Angeles:20200224T183000
DTEND;TZID=America/Los_Angeles:20200224T200000
DTSTAMP:20260425T082825
CREATED:20190905T194818Z
LAST-MODIFIED:20200121T205912Z
UID:1611-1582569000-1582574400@highlandterracepta.org
SUMMARY:PTA General Membership and Board Meetings
DESCRIPTION:
URL:https://highlandterracepta.org/event/pta-board-meeting-9/
LOCATION:Highland Terrace Elementary\, 100 N 160th St\, Shoreline\, WA\, 98133
END:VEVENT
BEGIN:VEVENT
DTSTART;VALUE=DATE:20200218
DTEND;VALUE=DATE:20200222
DTSTAMP:20260425T082825
CREATED:20190905T194905Z
LAST-MODIFIED:20190905T194905Z
UID:1613-1581984000-1582329599@highlandterracepta.org
SUMMARY:Mid-Winter Break
DESCRIPTION:
URL:https://highlandterracepta.org/event/mid-winter-break/
LOCATION:WA
END:VEVENT
BEGIN:VEVENT
DTSTART;TZID=America/Los_Angeles:20200213T160000
DTEND;TZID=America/Los_Angeles:20200213T210000
DTSTAMP:20260425T082825
CREATED:20200122T231510Z
LAST-MODIFIED:20200122T231928Z
UID:1883-1581609600-1581627600@highlandterracepta.org
SUMMARY:Habit Burger - Dining Fundraiser
DESCRIPTION:Please show this form when ordering to ensure Highland Terrace PTA gets 20% of profits this evening! Thank you!
URL:https://highlandterracepta.org/event/habit-burger-dining-fundraiser/
LOCATION:Habit Burger\, 1253 N 205th St\, Shoreline\, WA\, 98133\, United States
END:VEVENT
BEGIN:VEVENT
DTSTART;VALUE=DATE:20200210
DTEND;VALUE=DATE:20200224
DTSTAMP:20260425T082825
CREATED:20190905T194738Z
LAST-MODIFIED:20200121T205746Z
UID:1609-1581292800-1582502399@highlandterracepta.org
SUMMARY:Read-a-thon begins
DESCRIPTION:
URL:https://highlandterracepta.org/event/read-a-thon-begins-2/
LOCATION:WA
END:VEVENT
BEGIN:VEVENT
DTSTART;TZID=America/Los_Angeles:20200208T073000
DTEND;TZID=America/Los_Angeles:20200208T110000
DTSTAMP:20260425T082825
CREATED:20190905T194654Z
LAST-MODIFIED:20190905T194654Z
UID:1607-1581147000-1581159600@highlandterracepta.org
SUMMARY:Pancake Breakfast/Book Fair
DESCRIPTION:
URL:https://highlandterracepta.org/event/pancake-breakfast-book-fair/
LOCATION:Highland Terrace Elementary\, 100 N 160th St\, Shoreline\, WA\, 98133
END:VEVENT
BEGIN:VEVENT
DTSTART;VALUE=DATE:20200130
DTEND;VALUE=DATE:20200211
DTSTAMP:20260425T082825
CREATED:20190905T194609Z
LAST-MODIFIED:20190905T194609Z
UID:1604-1580342400-1581379199@highlandterracepta.org
SUMMARY:Scholastic Book Fair
DESCRIPTION:
URL:https://highlandterracepta.org/event/scholastic-book-fair-2/
LOCATION:Highland Terrace Library\, 100 N 160th St\, Shoreline\, WA\, 98133
END:VEVENT
BEGIN:VEVENT
DTSTART;TZID=America/Los_Angeles:20200127T183000
DTEND;TZID=America/Los_Angeles:20200127T200000
DTSTAMP:20260425T082825
CREATED:20190905T194351Z
LAST-MODIFIED:20200121T205846Z
UID:1598-1580149800-1580155200@highlandterracepta.org
SUMMARY:PTA Board Meeting
DESCRIPTION:
URL:https://highlandterracepta.org/event/pta-general-membership-board-meeting-2/
LOCATION:Highland Terrace Elementary\, 100 N 160th St\, Shoreline\, WA\, 98133
END:VEVENT
BEGIN:VEVENT
DTSTART;TZID=America/Los_Angeles:20200125T100000
DTEND;TZID=America/Los_Angeles:20200125T120000
DTSTAMP:20260425T082825
CREATED:20190905T194438Z
LAST-MODIFIED:20200127T183416Z
UID:1600-1579946400-1579953600@highlandterracepta.org
SUMMARY:Kinderfest
DESCRIPTION:
URL:https://highlandterracepta.org/event/kinderfest-2/
LOCATION:Shoreline Center\, 18560 1st Ave NE\, Shoreline\, WA\, 98155
END:VEVENT
BEGIN:VEVENT
DTSTART;TZID=America/Los_Angeles:20200124T180000
DTEND;TZID=America/Los_Angeles:20200124T200000
DTSTAMP:20260425T082825
CREATED:20200117T180619Z
LAST-MODIFIED:20200117T180556Z
UID:1602-1579888800-1579896000@highlandterracepta.org
SUMMARY:Movie Night
DESCRIPTION:
URL:https://highlandterracepta.org/event/movie-night-3/
LOCATION:Highland Terrace Cafeteria
END:VEVENT
BEGIN:VEVENT
DTSTART;TZID=America/Los_Angeles:20200106T183000
DTEND;TZID=America/Los_Angeles:20200106T200000
DTSTAMP:20260425T082825
CREATED:20190905T194221Z
LAST-MODIFIED:20190905T194221Z
UID:1593-1578335400-1578340800@highlandterracepta.org
SUMMARY:Reflections Reception
DESCRIPTION:
URL:https://highlandterracepta.org/event/reflections-reception-2/
LOCATION:Shoreline Center\, 18560 1st Ave NE\, Shoreline\, WA\, 98155
END:VEVENT
BEGIN:VEVENT
DTSTART;TZID=America/Los_Angeles:20200106T180000
DTEND;TZID=America/Los_Angeles:20200106T200000
DTSTAMP:20260425T082825
CREATED:20190905T194305Z
LAST-MODIFIED:20190905T194305Z
UID:1595-1578333600-1578340800@highlandterracepta.org
SUMMARY:Roller Skating
DESCRIPTION:
URL:https://highlandterracepta.org/event/roller-skating/
LOCATION:Lynnwood Bowl & Skate\, 6210 200th St SW\, Lynnwood\, Washington\, 98036
END:VEVENT
BEGIN:VEVENT
DTSTART;VALUE=DATE:20191223
DTEND;VALUE=DATE:20200104
DTSTAMP:20260425T082825
CREATED:20190905T194122Z
LAST-MODIFIED:20190905T194122Z
UID:1591-1577059200-1578095999@highlandterracepta.org
SUMMARY:Winter Break
DESCRIPTION:
URL:https://highlandterracepta.org/event/winter-break/
LOCATION:WA
END:VEVENT
BEGIN:VEVENT
DTSTART;TZID=America/Los_Angeles:20191216T183000
DTEND;TZID=America/Los_Angeles:20191216T200000
DTSTAMP:20260425T082825
CREATED:20190905T194044Z
LAST-MODIFIED:20190905T194044Z
UID:1589-1576521000-1576526400@highlandterracepta.org
SUMMARY:PTA Board Meeting
DESCRIPTION:
URL:https://highlandterracepta.org/event/pta-board-meeting-8/
LOCATION:Highland Terrace Elementary\, 100 N 160th St\, Shoreline\, WA\, 98133
END:VEVENT
BEGIN:VEVENT
DTSTART;TZID=America/Los_Angeles:20191125T183000
DTEND;TZID=America/Los_Angeles:20191125T200000
DTSTAMP:20260425T082825
CREATED:20190905T193953Z
LAST-MODIFIED:20190905T193953Z
UID:1587-1574706600-1574712000@highlandterracepta.org
SUMMARY:PTA Board Meeting
DESCRIPTION:
URL:https://highlandterracepta.org/event/pta-board-meeting-7/
LOCATION:Highland Terrace Elementary\, 100 N 160th St\, Shoreline\, WA\, 98133
END:VEVENT
BEGIN:VEVENT
DTSTART;TZID=America/Los_Angeles:20191122T183000
DTEND;TZID=America/Los_Angeles:20191122T200000
DTSTAMP:20260425T082825
CREATED:20190905T193920Z
LAST-MODIFIED:20190905T193920Z
UID:1585-1574447400-1574452800@highlandterracepta.org
SUMMARY:Science Night
DESCRIPTION:
URL:https://highlandterracepta.org/event/science-night/
LOCATION:Highland Terrace Elementary\, 100 N 160th St\, Shoreline\, WA\, 98133
END:VEVENT
BEGIN:VEVENT
DTSTART;TZID=America/Los_Angeles:20191114T190000
DTEND;TZID=America/Los_Angeles:20191114T200000
DTSTAMP:20260425T082825
CREATED:20191018T205924Z
LAST-MODIFIED:20191018T205924Z
UID:1698-1573758000-1573761600@highlandterracepta.org
SUMMARY:Drama Production: The Lion King - Parent Info Night
DESCRIPTION:
URL:https://highlandterracepta.org/event/drama-production-the-lion-king-parent-info-night/
LOCATION:Highland Terrace Elementary\, 100 N 160th St\, Shoreline\, WA\, 98133
END:VEVENT
END:VCALENDAR