BEGIN:VCALENDAR
VERSION:2.0
PRODID:-//Highland Terrace PTA - ECPv6.15.20//NONSGML v1.0//EN
CALSCALE:GREGORIAN
METHOD:PUBLISH
X-WR-CALNAME:Highland Terrace PTA
X-ORIGINAL-URL:https://highlandterracepta.org
X-WR-CALDESC:Events for Highland Terrace PTA
REFRESH-INTERVAL;VALUE=DURATION:PT1H
X-Robots-Tag:noindex
X-PUBLISHED-TTL:PT1H
BEGIN:VTIMEZONE
TZID:America/Los_Angeles
BEGIN:DAYLIGHT
TZOFFSETFROM:-0800
TZOFFSETTO:-0700
TZNAME:PDT
DTSTART:19690427T100000
END:DAYLIGHT
BEGIN:STANDARD
TZOFFSETFROM:-0700
TZOFFSETTO:-0800
TZNAME:PST
DTSTART:19691026T090000
END:STANDARD
BEGIN:DAYLIGHT
TZOFFSETFROM:-0800
TZOFFSETTO:-0700
TZNAME:PDT
DTSTART:19700426T100000
END:DAYLIGHT
BEGIN:STANDARD
TZOFFSETFROM:-0700
TZOFFSETTO:-0800
TZNAME:PST
DTSTART:19701025T090000
END:STANDARD
BEGIN:DAYLIGHT
TZOFFSETFROM:-0800
TZOFFSETTO:-0700
TZNAME:PDT
DTSTART:19710425T100000
END:DAYLIGHT
BEGIN:STANDARD
TZOFFSETFROM:-0700
TZOFFSETTO:-0800
TZNAME:PST
DTSTART:19711031T090000
END:STANDARD
BEGIN:DAYLIGHT
TZOFFSETFROM:-0800
TZOFFSETTO:-0700
TZNAME:PDT
DTSTART:19720430T100000
END:DAYLIGHT
BEGIN:STANDARD
TZOFFSETFROM:-0700
TZOFFSETTO:-0800
TZNAME:PST
DTSTART:19721029T090000
END:STANDARD
BEGIN:DAYLIGHT
TZOFFSETFROM:-0800
TZOFFSETTO:-0700
TZNAME:PDT
DTSTART:19730429T100000
END:DAYLIGHT
BEGIN:STANDARD
TZOFFSETFROM:-0700
TZOFFSETTO:-0800
TZNAME:PST
DTSTART:19731028T090000
END:STANDARD
BEGIN:DAYLIGHT
TZOFFSETFROM:-0800
TZOFFSETTO:-0700
TZNAME:PDT
DTSTART:19740106T100000
END:DAYLIGHT
BEGIN:STANDARD
TZOFFSETFROM:-0700
TZOFFSETTO:-0800
TZNAME:PST
DTSTART:19741027T090000
END:STANDARD
BEGIN:DAYLIGHT
TZOFFSETFROM:-0800
TZOFFSETTO:-0700
TZNAME:PDT
DTSTART:19750223T100000
END:DAYLIGHT
BEGIN:STANDARD
TZOFFSETFROM:-0700
TZOFFSETTO:-0800
TZNAME:PST
DTSTART:19751026T090000
END:STANDARD
BEGIN:DAYLIGHT
TZOFFSETFROM:-0800
TZOFFSETTO:-0700
TZNAME:PDT
DTSTART:19760425T100000
END:DAYLIGHT
BEGIN:STANDARD
TZOFFSETFROM:-0700
TZOFFSETTO:-0800
TZNAME:PST
DTSTART:19761031T090000
END:STANDARD
BEGIN:DAYLIGHT
TZOFFSETFROM:-0800
TZOFFSETTO:-0700
TZNAME:PDT
DTSTART:19770424T100000
END:DAYLIGHT
BEGIN:STANDARD
TZOFFSETFROM:-0700
TZOFFSETTO:-0800
TZNAME:PST
DTSTART:19771030T090000
END:STANDARD
BEGIN:DAYLIGHT
TZOFFSETFROM:-0800
TZOFFSETTO:-0700
TZNAME:PDT
DTSTART:19780430T100000
END:DAYLIGHT
BEGIN:STANDARD
TZOFFSETFROM:-0700
TZOFFSETTO:-0800
TZNAME:PST
DTSTART:19781029T090000
END:STANDARD
BEGIN:DAYLIGHT
TZOFFSETFROM:-0800
TZOFFSETTO:-0700
TZNAME:PDT
DTSTART:19790429T100000
END:DAYLIGHT
BEGIN:STANDARD
TZOFFSETFROM:-0700
TZOFFSETTO:-0800
TZNAME:PST
DTSTART:19791028T090000
END:STANDARD
BEGIN:DAYLIGHT
TZOFFSETFROM:-0800
TZOFFSETTO:-0700
TZNAME:PDT
DTSTART:19800427T100000
END:DAYLIGHT
BEGIN:STANDARD
TZOFFSETFROM:-0700
TZOFFSETTO:-0800
TZNAME:PST
DTSTART:19801026T090000
END:STANDARD
BEGIN:DAYLIGHT
TZOFFSETFROM:-0800
TZOFFSETTO:-0700
TZNAME:PDT
DTSTART:19810426T100000
END:DAYLIGHT
BEGIN:STANDARD
TZOFFSETFROM:-0700
TZOFFSETTO:-0800
TZNAME:PST
DTSTART:19811025T090000
END:STANDARD
BEGIN:DAYLIGHT
TZOFFSETFROM:-0800
TZOFFSETTO:-0700
TZNAME:PDT
DTSTART:19820425T100000
END:DAYLIGHT
BEGIN:STANDARD
TZOFFSETFROM:-0700
TZOFFSETTO:-0800
TZNAME:PST
DTSTART:19821031T090000
END:STANDARD
BEGIN:DAYLIGHT
TZOFFSETFROM:-0800
TZOFFSETTO:-0700
TZNAME:PDT
DTSTART:19830424T100000
END:DAYLIGHT
BEGIN:STANDARD
TZOFFSETFROM:-0700
TZOFFSETTO:-0800
TZNAME:PST
DTSTART:19831030T090000
END:STANDARD
BEGIN:DAYLIGHT
TZOFFSETFROM:-0800
TZOFFSETTO:-0700
TZNAME:PDT
DTSTART:19840429T100000
END:DAYLIGHT
BEGIN:STANDARD
TZOFFSETFROM:-0700
TZOFFSETTO:-0800
TZNAME:PST
DTSTART:19841028T090000
END:STANDARD
BEGIN:DAYLIGHT
TZOFFSETFROM:-0800
TZOFFSETTO:-0700
TZNAME:PDT
DTSTART:19850428T100000
END:DAYLIGHT
BEGIN:STANDARD
TZOFFSETFROM:-0700
TZOFFSETTO:-0800
TZNAME:PST
DTSTART:19851027T090000
END:STANDARD
BEGIN:DAYLIGHT
TZOFFSETFROM:-0800
TZOFFSETTO:-0700
TZNAME:PDT
DTSTART:19860427T100000
END:DAYLIGHT
BEGIN:STANDARD
TZOFFSETFROM:-0700
TZOFFSETTO:-0800
TZNAME:PST
DTSTART:19861026T090000
END:STANDARD
BEGIN:DAYLIGHT
TZOFFSETFROM:-0800
TZOFFSETTO:-0700
TZNAME:PDT
DTSTART:19870405T100000
END:DAYLIGHT
BEGIN:STANDARD
TZOFFSETFROM:-0700
TZOFFSETTO:-0800
TZNAME:PST
DTSTART:19871025T090000
END:STANDARD
BEGIN:DAYLIGHT
TZOFFSETFROM:-0800
TZOFFSETTO:-0700
TZNAME:PDT
DTSTART:19880403T100000
END:DAYLIGHT
BEGIN:STANDARD
TZOFFSETFROM:-0700
TZOFFSETTO:-0800
TZNAME:PST
DTSTART:19881030T090000
END:STANDARD
BEGIN:DAYLIGHT
TZOFFSETFROM:-0800
TZOFFSETTO:-0700
TZNAME:PDT
DTSTART:19890402T100000
END:DAYLIGHT
BEGIN:STANDARD
TZOFFSETFROM:-0700
TZOFFSETTO:-0800
TZNAME:PST
DTSTART:19891029T090000
END:STANDARD
BEGIN:DAYLIGHT
TZOFFSETFROM:-0800
TZOFFSETTO:-0700
TZNAME:PDT
DTSTART:19900401T100000
END:DAYLIGHT
BEGIN:STANDARD
TZOFFSETFROM:-0700
TZOFFSETTO:-0800
TZNAME:PST
DTSTART:19901028T090000
END:STANDARD
BEGIN:DAYLIGHT
TZOFFSETFROM:-0800
TZOFFSETTO:-0700
TZNAME:PDT
DTSTART:19910407T100000
END:DAYLIGHT
BEGIN:STANDARD
TZOFFSETFROM:-0700
TZOFFSETTO:-0800
TZNAME:PST
DTSTART:19911027T090000
END:STANDARD
BEGIN:DAYLIGHT
TZOFFSETFROM:-0800
TZOFFSETTO:-0700
TZNAME:PDT
DTSTART:19920405T100000
END:DAYLIGHT
BEGIN:STANDARD
TZOFFSETFROM:-0700
TZOFFSETTO:-0800
TZNAME:PST
DTSTART:19921025T090000
END:STANDARD
BEGIN:DAYLIGHT
TZOFFSETFROM:-0800
TZOFFSETTO:-0700
TZNAME:PDT
DTSTART:19930404T100000
END:DAYLIGHT
BEGIN:STANDARD
TZOFFSETFROM:-0700
TZOFFSETTO:-0800
TZNAME:PST
DTSTART:19931031T090000
END:STANDARD
BEGIN:DAYLIGHT
TZOFFSETFROM:-0800
TZOFFSETTO:-0700
TZNAME:PDT
DTSTART:19940403T100000
END:DAYLIGHT
BEGIN:STANDARD
TZOFFSETFROM:-0700
TZOFFSETTO:-0800
TZNAME:PST
DTSTART:19941030T090000
END:STANDARD
BEGIN:DAYLIGHT
TZOFFSETFROM:-0800
TZOFFSETTO:-0700
TZNAME:PDT
DTSTART:19950402T100000
END:DAYLIGHT
BEGIN:STANDARD
TZOFFSETFROM:-0700
TZOFFSETTO:-0800
TZNAME:PST
DTSTART:19951029T090000
END:STANDARD
BEGIN:DAYLIGHT
TZOFFSETFROM:-0800
TZOFFSETTO:-0700
TZNAME:PDT
DTSTART:19960407T100000
END:DAYLIGHT
BEGIN:STANDARD
TZOFFSETFROM:-0700
TZOFFSETTO:-0800
TZNAME:PST
DTSTART:19961027T090000
END:STANDARD
BEGIN:DAYLIGHT
TZOFFSETFROM:-0800
TZOFFSETTO:-0700
TZNAME:PDT
DTSTART:19970406T100000
END:DAYLIGHT
BEGIN:STANDARD
TZOFFSETFROM:-0700
TZOFFSETTO:-0800
TZNAME:PST
DTSTART:19971026T090000
END:STANDARD
BEGIN:DAYLIGHT
TZOFFSETFROM:-0800
TZOFFSETTO:-0700
TZNAME:PDT
DTSTART:19980405T100000
END:DAYLIGHT
BEGIN:STANDARD
TZOFFSETFROM:-0700
TZOFFSETTO:-0800
TZNAME:PST
DTSTART:19981025T090000
END:STANDARD
BEGIN:DAYLIGHT
TZOFFSETFROM:-0800
TZOFFSETTO:-0700
TZNAME:PDT
DTSTART:19990404T100000
END:DAYLIGHT
BEGIN:STANDARD
TZOFFSETFROM:-0700
TZOFFSETTO:-0800
TZNAME:PST
DTSTART:19991031T090000
END:STANDARD
BEGIN:DAYLIGHT
TZOFFSETFROM:-0800
TZOFFSETTO:-0700
TZNAME:PDT
DTSTART:20000402T100000
END:DAYLIGHT
BEGIN:STANDARD
TZOFFSETFROM:-0700
TZOFFSETTO:-0800
TZNAME:PST
DTSTART:20001029T090000
END:STANDARD
BEGIN:DAYLIGHT
TZOFFSETFROM:-0800
TZOFFSETTO:-0700
TZNAME:PDT
DTSTART:20010401T100000
END:DAYLIGHT
BEGIN:STANDARD
TZOFFSETFROM:-0700
TZOFFSETTO:-0800
TZNAME:PST
DTSTART:20011028T090000
END:STANDARD
BEGIN:DAYLIGHT
TZOFFSETFROM:-0800
TZOFFSETTO:-0700
TZNAME:PDT
DTSTART:20020407T100000
END:DAYLIGHT
BEGIN:STANDARD
TZOFFSETFROM:-0700
TZOFFSETTO:-0800
TZNAME:PST
DTSTART:20021027T090000
END:STANDARD
BEGIN:DAYLIGHT
TZOFFSETFROM:-0800
TZOFFSETTO:-0700
TZNAME:PDT
DTSTART:20030406T100000
END:DAYLIGHT
BEGIN:STANDARD
TZOFFSETFROM:-0700
TZOFFSETTO:-0800
TZNAME:PST
DTSTART:20031026T090000
END:STANDARD
BEGIN:DAYLIGHT
TZOFFSETFROM:-0800
TZOFFSETTO:-0700
TZNAME:PDT
DTSTART:20040404T100000
END:DAYLIGHT
BEGIN:STANDARD
TZOFFSETFROM:-0700
TZOFFSETTO:-0800
TZNAME:PST
DTSTART:20041031T090000
END:STANDARD
BEGIN:DAYLIGHT
TZOFFSETFROM:-0800
TZOFFSETTO:-0700
TZNAME:PDT
DTSTART:20050403T100000
END:DAYLIGHT
BEGIN:STANDARD
TZOFFSETFROM:-0700
TZOFFSETTO:-0800
TZNAME:PST
DTSTART:20051030T090000
END:STANDARD
BEGIN:DAYLIGHT
TZOFFSETFROM:-0800
TZOFFSETTO:-0700
TZNAME:PDT
DTSTART:20060402T100000
END:DAYLIGHT
BEGIN:STANDARD
TZOFFSETFROM:-0700
TZOFFSETTO:-0800
TZNAME:PST
DTSTART:20061029T090000
END:STANDARD
BEGIN:DAYLIGHT
TZOFFSETFROM:-0800
TZOFFSETTO:-0700
TZNAME:PDT
DTSTART:20070311T100000
END:DAYLIGHT
BEGIN:STANDARD
TZOFFSETFROM:-0700
TZOFFSETTO:-0800
TZNAME:PST
DTSTART:20071104T090000
END:STANDARD
BEGIN:DAYLIGHT
TZOFFSETFROM:-0800
TZOFFSETTO:-0700
TZNAME:PDT
DTSTART:20080309T100000
END:DAYLIGHT
BEGIN:STANDARD
TZOFFSETFROM:-0700
TZOFFSETTO:-0800
TZNAME:PST
DTSTART:20081102T090000
END:STANDARD
BEGIN:DAYLIGHT
TZOFFSETFROM:-0800
TZOFFSETTO:-0700
TZNAME:PDT
DTSTART:20090308T100000
END:DAYLIGHT
BEGIN:STANDARD
TZOFFSETFROM:-0700
TZOFFSETTO:-0800
TZNAME:PST
DTSTART:20091101T090000
END:STANDARD
BEGIN:DAYLIGHT
TZOFFSETFROM:-0800
TZOFFSETTO:-0700
TZNAME:PDT
DTSTART:20100314T100000
END:DAYLIGHT
BEGIN:STANDARD
TZOFFSETFROM:-0700
TZOFFSETTO:-0800
TZNAME:PST
DTSTART:20101107T090000
END:STANDARD
BEGIN:DAYLIGHT
TZOFFSETFROM:-0800
TZOFFSETTO:-0700
TZNAME:PDT
DTSTART:20110313T100000
END:DAYLIGHT
BEGIN:STANDARD
TZOFFSETFROM:-0700
TZOFFSETTO:-0800
TZNAME:PST
DTSTART:20111106T090000
END:STANDARD
BEGIN:DAYLIGHT
TZOFFSETFROM:-0800
TZOFFSETTO:-0700
TZNAME:PDT
DTSTART:20120311T100000
END:DAYLIGHT
BEGIN:STANDARD
TZOFFSETFROM:-0700
TZOFFSETTO:-0800
TZNAME:PST
DTSTART:20121104T090000
END:STANDARD
BEGIN:DAYLIGHT
TZOFFSETFROM:-0800
TZOFFSETTO:-0700
TZNAME:PDT
DTSTART:20130310T100000
END:DAYLIGHT
BEGIN:STANDARD
TZOFFSETFROM:-0700
TZOFFSETTO:-0800
TZNAME:PST
DTSTART:20131103T090000
END:STANDARD
BEGIN:DAYLIGHT
TZOFFSETFROM:-0800
TZOFFSETTO:-0700
TZNAME:PDT
DTSTART:20140309T100000
END:DAYLIGHT
BEGIN:STANDARD
TZOFFSETFROM:-0700
TZOFFSETTO:-0800
TZNAME:PST
DTSTART:20141102T090000
END:STANDARD
BEGIN:DAYLIGHT
TZOFFSETFROM:-0800
TZOFFSETTO:-0700
TZNAME:PDT
DTSTART:20150308T100000
END:DAYLIGHT
BEGIN:STANDARD
TZOFFSETFROM:-0700
TZOFFSETTO:-0800
TZNAME:PST
DTSTART:20151101T090000
END:STANDARD
BEGIN:DAYLIGHT
TZOFFSETFROM:-0800
TZOFFSETTO:-0700
TZNAME:PDT
DTSTART:20160313T100000
END:DAYLIGHT
BEGIN:STANDARD
TZOFFSETFROM:-0700
TZOFFSETTO:-0800
TZNAME:PST
DTSTART:20161106T090000
END:STANDARD
BEGIN:DAYLIGHT
TZOFFSETFROM:-0800
TZOFFSETTO:-0700
TZNAME:PDT
DTSTART:20170312T100000
END:DAYLIGHT
BEGIN:STANDARD
TZOFFSETFROM:-0700
TZOFFSETTO:-0800
TZNAME:PST
DTSTART:20171105T090000
END:STANDARD
BEGIN:DAYLIGHT
TZOFFSETFROM:-0800
TZOFFSETTO:-0700
TZNAME:PDT
DTSTART:20180311T100000
END:DAYLIGHT
BEGIN:STANDARD
TZOFFSETFROM:-0700
TZOFFSETTO:-0800
TZNAME:PST
DTSTART:20181104T090000
END:STANDARD
BEGIN:DAYLIGHT
TZOFFSETFROM:-0800
TZOFFSETTO:-0700
TZNAME:PDT
DTSTART:20190310T100000
END:DAYLIGHT
BEGIN:STANDARD
TZOFFSETFROM:-0700
TZOFFSETTO:-0800
TZNAME:PST
DTSTART:20191103T090000
END:STANDARD
BEGIN:DAYLIGHT
TZOFFSETFROM:-0800
TZOFFSETTO:-0700
TZNAME:PDT
DTSTART:20200308T100000
END:DAYLIGHT
BEGIN:STANDARD
TZOFFSETFROM:-0700
TZOFFSETTO:-0800
TZNAME:PST
DTSTART:20201101T090000
END:STANDARD
END:VTIMEZONE
BEGIN:VEVENT
DTSTART;TZID=America/Los_Angeles:20190110T183000
DTEND;TZID=America/Los_Angeles:20190110T200000
DTSTAMP:20260425T084059
CREATED:20181228T051300Z
LAST-MODIFIED:20181228T051300Z
UID:1214-1547145000-1547150400@highlandterracepta.org
SUMMARY:Shoreline School District Reflections Art Show
DESCRIPTION:
URL:https://highlandterracepta.org/event/shoreline-school-district-reflections-art-show/
LOCATION:Shoreline Center\, 18560 1st Ave NE\, Shoreline\, WA\, 98155
END:VEVENT
BEGIN:VEVENT
DTSTART;TZID=America/Los_Angeles:20181218T183000
DTEND;TZID=America/Los_Angeles:20181218T200000
DTSTAMP:20260425T084059
CREATED:20181023T173953Z
LAST-MODIFIED:20181023T173953Z
UID:1122-1545157800-1545163200@highlandterracepta.org
SUMMARY:PTA Board Meeting
DESCRIPTION:
URL:https://highlandterracepta.org/event/pta-board-meeting-3/
END:VEVENT
BEGIN:VEVENT
DTSTART;TZID=America/Los_Angeles:20181130T183000
DTEND;TZID=America/Los_Angeles:20181130T200000
DTSTAMP:20260425T084059
CREATED:20181023T173952Z
LAST-MODIFIED:20181023T173952Z
UID:1120-1543602600-1543608000@highlandterracepta.org
SUMMARY:Fall Fun event- Science Night
DESCRIPTION:
URL:https://highlandterracepta.org/event/fall-fun-event-science-night/
END:VEVENT
BEGIN:VEVENT
DTSTART;TZID=America/Los_Angeles:20181120T183000
DTEND;TZID=America/Los_Angeles:20181120T200000
DTSTAMP:20260425T084059
CREATED:20181023T173952Z
LAST-MODIFIED:20181023T173952Z
UID:1119-1542738600-1542744000@highlandterracepta.org
SUMMARY:PTA Board Meeting
DESCRIPTION:
URL:https://highlandterracepta.org/event/pta-board-meeting-2/
END:VEVENT
BEGIN:VEVENT
DTSTART;TZID=America/Los_Angeles:20181114T183000
DTEND;TZID=America/Los_Angeles:20181114T200000
DTSTAMP:20260425T084059
CREATED:20181024T171625Z
LAST-MODIFIED:20181024T172211Z
UID:1165-1542220200-1542225600@highlandterracepta.org
SUMMARY:Parent Education Night - Are You Concerned About How Internet & Media Use is Affecting Your Child?
DESCRIPTION:Join us at a PARENT EDUCATION night that focuses on kids and screen time. \n* Are you concerned about how Internet & Media use is affecting your child? \n* Do you have questions about setting limits on screen time and general guidelines? \n* Do you have anxiety around appropriate internet use\, video gaming\, and media exposure with your child? \n  \nCome and join us for a presentation and Q&A with Dr. Ann Steel\, an expert on social media dependency and internet addiction. \nWho:  Dr. Ann Steel has worked with parents\, families\, and youth for over 30 years as a family physician\, educator\, and a licensed mental health counselor in private practice.  She specializes in issues of internet and video game use and addictions.  She is passionate about helping families find a healthy balance between the real and virtual worlds we are raising our children in today.  For more info about Ann—see her website: http://www.steelcounseling.com. \nPlease contact amy.kelly@shorelineschools.org with questions. \n  \nThanks to Highland Terrace PTA for sponsoring this event!
URL:https://highlandterracepta.org/event/parent-education-night-are-you-concerned-about-how-internet-media-use-is-affecting-your-child/
LOCATION:Highland Terrace Cafeteria
END:VEVENT
BEGIN:VEVENT
DTSTART;VALUE=DATE:20181113
DTEND;VALUE=DATE:20181117
DTSTAMP:20260425T084059
CREATED:20181023T173951Z
LAST-MODIFIED:20181023T174254Z
UID:1118-1542067200-1542412799@highlandterracepta.org
SUMMARY:Health screening
DESCRIPTION:
URL:https://highlandterracepta.org/event/health-screening/
END:VEVENT
BEGIN:VEVENT
DTSTART;VALUE=DATE:20181031
DTEND;VALUE=DATE:20181101
DTSTAMP:20260425T084059
CREATED:20181023T173950Z
LAST-MODIFIED:20181023T174328Z
UID:1116-1540944000-1541030399@highlandterracepta.org
SUMMARY:Reflections Entries due
DESCRIPTION:
URL:https://highlandterracepta.org/event/reflections-entries-due/
END:VEVENT
BEGIN:VEVENT
DTSTART;TZID=America/Los_Angeles:20181023T140000
DTEND;TZID=America/Los_Angeles:20181023T150000
DTSTAMP:20260425T084059
CREATED:20181023T173950Z
LAST-MODIFIED:20181023T173950Z
UID:1115-1540303200-1540306800@highlandterracepta.org
SUMMARY:ASB Move-a-Thon
DESCRIPTION:
URL:https://highlandterracepta.org/event/asb-move-a-thon/
END:VEVENT
BEGIN:VEVENT
DTSTART;VALUE=DATE:20181020
DTEND;VALUE=DATE:20181022
DTSTAMP:20260425T084059
CREATED:20181023T173951Z
LAST-MODIFIED:20181023T174153Z
UID:1117-1539993600-1540166399@highlandterracepta.org
SUMMARY:WSPTA Legislative Assembly
DESCRIPTION:
URL:https://highlandterracepta.org/event/wspta-legislative-assembly/
END:VEVENT
BEGIN:VEVENT
DTSTART;TZID=America/Los_Angeles:20181016T183000
DTEND;TZID=America/Los_Angeles:20181016T200000
DTSTAMP:20260425T084059
CREATED:20181023T173950Z
LAST-MODIFIED:20181023T173950Z
UID:1114-1539714600-1539720000@highlandterracepta.org
SUMMARY:PTA Board Meeting
DESCRIPTION:
URL:https://highlandterracepta.org/event/pta-board-meeting/
END:VEVENT
BEGIN:VEVENT
DTSTART;TZID=America/Los_Angeles:20180920T180000
DTEND;TZID=America/Los_Angeles:20180920T200000
DTSTAMP:20260425T084059
CREATED:20181023T173950Z
LAST-MODIFIED:20181023T173950Z
UID:1113-1537466400-1537473600@highlandterracepta.org
SUMMARY:Curriculum Night
DESCRIPTION:
URL:https://highlandterracepta.org/event/curriculum-night/
END:VEVENT
BEGIN:VEVENT
DTSTART;TZID=America/Los_Angeles:20180918T183000
DTEND;TZID=America/Los_Angeles:20180918T200000
DTSTAMP:20260425T084059
CREATED:20181023T173950Z
LAST-MODIFIED:20181023T173950Z
UID:1112-1537295400-1537300800@highlandterracepta.org
SUMMARY:General Membership Meeting
DESCRIPTION:
URL:https://highlandterracepta.org/event/general-membership-meeting/
END:VEVENT
BEGIN:VEVENT
DTSTART;TZID=America/Los_Angeles:20180913T183000
DTEND;TZID=America/Los_Angeles:20180913T193000
DTSTAMP:20260425T084059
CREATED:20181023T173948Z
LAST-MODIFIED:20181023T173948Z
UID:1111-1536863400-1536867000@highlandterracepta.org
SUMMARY:PTA Ice Cream Social
DESCRIPTION:
URL:https://highlandterracepta.org/event/pta-ice-cream-social/
END:VEVENT
BEGIN:VEVENT
DTSTART;TZID=America/Los_Angeles:20180904T090000
DTEND;TZID=America/Los_Angeles:20180904T153000
DTSTAMP:20260425T084059
CREATED:20181023T173948Z
LAST-MODIFIED:20181023T173948Z
UID:1110-1536051600-1536075000@highlandterracepta.org
SUMMARY:First Day for Kindergarten
DESCRIPTION:
URL:https://highlandterracepta.org/event/first-day-for-kindergarten/
END:VEVENT
BEGIN:VEVENT
DTSTART;TZID=America/Los_Angeles:20180829T090000
DTEND;TZID=America/Los_Angeles:20180829T153000
DTSTAMP:20260425T084059
CREATED:20181023T173948Z
LAST-MODIFIED:20181023T173948Z
UID:1108-1535533200-1535556600@highlandterracepta.org
SUMMARY:First day of school for grades 1-6
DESCRIPTION:
URL:https://highlandterracepta.org/event/first-day-of-school-for-grades-1-6/
END:VEVENT
BEGIN:VEVENT
DTSTART;TZID=America/Los_Angeles:20180829T090000
DTEND;TZID=America/Los_Angeles:20180829T100000
DTSTAMP:20260425T084059
CREATED:20181023T173948Z
LAST-MODIFIED:20181023T173948Z
UID:1109-1535533200-1535536800@highlandterracepta.org
SUMMARY:Welcome (coffee and treats)
DESCRIPTION:
URL:https://highlandterracepta.org/event/welcome-coffee-and-treats/
END:VEVENT
BEGIN:VEVENT
DTSTART;TZID=America/Los_Angeles:20180828T133000
DTEND;TZID=America/Los_Angeles:20180828T153000
DTSTAMP:20260425T084059
CREATED:20181023T173948Z
LAST-MODIFIED:20181023T173948Z
UID:1107-1535463000-1535470200@highlandterracepta.org
SUMMARY:Highland Terrace Open House
DESCRIPTION:
URL:https://highlandterracepta.org/event/highland-terrace-open-house/
END:VEVENT
BEGIN:VEVENT
DTSTART;TZID=America/Los_Angeles:20180521T183000
DTEND;TZID=America/Los_Angeles:20180521T200000
DTSTAMP:20260425T084059
CREATED:20181023T175056Z
LAST-MODIFIED:20181023T175056Z
UID:1142-1526927400-1526932800@highlandterracepta.org
SUMMARY:PTA Board Meeting
DESCRIPTION:
URL:https://highlandterracepta.org/event/pta-board-meeting-5/
END:VEVENT
BEGIN:VEVENT
DTSTART;TZID=America/Los_Angeles:20180503T180000
DTEND;TZID=America/Los_Angeles:20180503T220000
DTSTAMP:20260425T084059
CREATED:20181023T175110Z
LAST-MODIFIED:20181023T175110Z
UID:1143-1525370400-1525384800@highlandterracepta.org
SUMMARY:Movie Night
DESCRIPTION:
URL:https://highlandterracepta.org/event/movie-night-2/
END:VEVENT
BEGIN:VEVENT
DTSTART;TZID=America/Los_Angeles:20180418T180000
DTEND;TZID=America/Los_Angeles:20180418T200000
DTSTAMP:20260425T084059
CREATED:20181023T175056Z
LAST-MODIFIED:20181023T175056Z
UID:1140-1524074400-1524081600@highlandterracepta.org
SUMMARY:PTA Council Recognition Dinner
DESCRIPTION:
URL:https://highlandterracepta.org/event/pta-council-recognition-dinner/
END:VEVENT
BEGIN:VEVENT
DTSTART;TZID=America/Los_Angeles:20180416T183000
DTEND;TZID=America/Los_Angeles:20180416T200000
DTSTAMP:20260425T084059
CREATED:20181023T175055Z
LAST-MODIFIED:20181023T175055Z
UID:1139-1523903400-1523908800@highlandterracepta.org
SUMMARY:PTA General Membership Meeting
DESCRIPTION:
URL:https://highlandterracepta.org/event/pta-general-membership-meeting/
END:VEVENT
BEGIN:VEVENT
DTSTART;TZID=America/Los_Angeles:20180321T183000
DTEND;TZID=America/Los_Angeles:20180321T200000
DTSTAMP:20260425T084059
CREATED:20181023T175055Z
LAST-MODIFIED:20181023T175055Z
UID:1138-1521657000-1521662400@highlandterracepta.org
SUMMARY:Heritage Festival
DESCRIPTION:
URL:https://highlandterracepta.org/event/heritage-festival/
END:VEVENT
BEGIN:VEVENT
DTSTART;TZID=America/Los_Angeles:20180319T183000
DTEND;TZID=America/Los_Angeles:20180319T200000
DTSTAMP:20260425T084059
CREATED:20181023T175041Z
LAST-MODIFIED:20181023T175041Z
UID:1137-1521484200-1521489600@highlandterracepta.org
SUMMARY:PTA Board Meeting
DESCRIPTION:
URL:https://highlandterracepta.org/event/pta-board-meeting-4/
END:VEVENT
BEGIN:VEVENT
DTSTART;TZID=America/Los_Angeles:20180209T073000
DTEND;TZID=America/Los_Angeles:20180209T110000
DTSTAMP:20260425T084059
CREATED:20181023T175041Z
LAST-MODIFIED:20181023T175041Z
UID:1134-1518161400-1518174000@highlandterracepta.org
SUMMARY:Pancake Breakfast/Book Fair
DESCRIPTION:
URL:https://highlandterracepta.org/event/pancake-breakfastbook-fair/
END:VEVENT
BEGIN:VEVENT
DTSTART;TZID=America/Los_Angeles:20180126T100000
DTEND;TZID=America/Los_Angeles:20180126T120000
DTSTAMP:20260425T084059
CREATED:20181023T173953Z
LAST-MODIFIED:20181023T173953Z
UID:1126-1516960800-1516968000@highlandterracepta.org
SUMMARY:Kinderfest
DESCRIPTION:
URL:https://highlandterracepta.org/event/kinderfest/
END:VEVENT
BEGIN:VEVENT
DTSTART;TZID=America/Los_Angeles:20180125T180000
DTEND;TZID=America/Los_Angeles:20180125T200000
DTSTAMP:20260425T084059
CREATED:20181023T175041Z
LAST-MODIFIED:20181023T175041Z
UID:1132-1516903200-1516910400@highlandterracepta.org
SUMMARY:Movie Night
DESCRIPTION:
URL:https://highlandterracepta.org/event/movie-night/
END:VEVENT
BEGIN:VEVENT
DTSTART;TZID=America/Los_Angeles:20180115T183000
DTEND;TZID=America/Los_Angeles:20180115T200000
DTSTAMP:20260425T084059
CREATED:20181023T173953Z
LAST-MODIFIED:20181023T173953Z
UID:1125-1516041000-1516046400@highlandterracepta.org
SUMMARY:PTA General Membership Board Meeting
DESCRIPTION:
URL:https://highlandterracepta.org/event/pta-general-membership-board-meeting/
END:VEVENT
BEGIN:VEVENT
DTSTART;TZID=America/Los_Angeles:20180110T183000
DTEND;TZID=America/Los_Angeles:20180110T200000
DTSTAMP:20260425T084059
CREATED:20181023T173953Z
LAST-MODIFIED:20181023T173953Z
UID:1124-1515609000-1515614400@highlandterracepta.org
SUMMARY:Reflections Reception
DESCRIPTION:
URL:https://highlandterracepta.org/event/reflections-reception/
END:VEVENT
BEGIN:VEVENT
DTSTART;TZID=America/Los_Angeles:20180107T090000
DTEND;TZID=America/Los_Angeles:20180107T090000
DTSTAMP:20260425T084059
CREATED:20181023T173953Z
LAST-MODIFIED:20181023T173953Z
UID:1123-1515315600-1515315600@highlandterracepta.org
SUMMARY:School Resumes
DESCRIPTION:
URL:https://highlandterracepta.org/event/school-resumes/
END:VEVENT
BEGIN:VEVENT
DTSTART;TZID=America/Los_Angeles:20260425T084059
DTEND;TZID=America/Los_Angeles:20180520T000000
DTSTAMP:20260425T084059
CREATED:20181023T175111Z
LAST-MODIFIED:20181023T175111Z
UID:1144-0-1526774400@highlandterracepta.org
SUMMARY:PTA Council Spring Dessert Training
DESCRIPTION:
URL:https://highlandterracepta.org/event/pta-council-spring-dessert-training/
END:VEVENT
END:VCALENDAR