BEGIN:VCALENDAR
VERSION:2.0
PRODID:-//Highland Terrace PTA - ECPv6.15.20//NONSGML v1.0//EN
CALSCALE:GREGORIAN
METHOD:PUBLISH
X-ORIGINAL-URL:https://highlandterracepta.org
X-WR-CALDESC:Events for Highland Terrace PTA
REFRESH-INTERVAL;VALUE=DURATION:PT1H
X-Robots-Tag:noindex
X-PUBLISHED-TTL:PT1H
BEGIN:VTIMEZONE
TZID:America/Los_Angeles
BEGIN:DAYLIGHT
TZOFFSETFROM:-0800
TZOFFSETTO:-0700
TZNAME:PDT
DTSTART:20250309T100000
END:DAYLIGHT
BEGIN:STANDARD
TZOFFSETFROM:-0700
TZOFFSETTO:-0800
TZNAME:PST
DTSTART:20251102T090000
END:STANDARD
BEGIN:DAYLIGHT
TZOFFSETFROM:-0800
TZOFFSETTO:-0700
TZNAME:PDT
DTSTART:20260308T100000
END:DAYLIGHT
BEGIN:STANDARD
TZOFFSETFROM:-0700
TZOFFSETTO:-0800
TZNAME:PST
DTSTART:20261101T090000
END:STANDARD
BEGIN:DAYLIGHT
TZOFFSETFROM:-0800
TZOFFSETTO:-0700
TZNAME:PDT
DTSTART:20270314T100000
END:DAYLIGHT
BEGIN:STANDARD
TZOFFSETFROM:-0700
TZOFFSETTO:-0800
TZNAME:PST
DTSTART:20271107T090000
END:STANDARD
END:VTIMEZONE
BEGIN:VEVENT
DTSTART;TZID=America/Los_Angeles:20260113T183000
DTEND;TZID=America/Los_Angeles:20260113T200000
DTSTAMP:20260423T161139
CREATED:20250916T174803Z
LAST-MODIFIED:20250916T174803Z
UID:5892-1768329000-1768334400@highlandterracepta.org
SUMMARY:PTA Board Meeting
DESCRIPTION:
URL:https://highlandterracepta.org/event/pta-board-meeting-26/
LOCATION:Highland Terrace Elementary School\, 100 N 160th St\, Shoreline\, WA 98133\, Shoreline\, 98133\, United States
CATEGORIES:PTA Meeting
END:VEVENT
BEGIN:VEVENT
DTSTART;TZID=America/Los_Angeles:20260210T183000
DTEND;TZID=America/Los_Angeles:20260210T203000
DTSTAMP:20260423T161139
CREATED:20250916T175324Z
LAST-MODIFIED:20250916T175324Z
UID:5898-1770748200-1770755400@highlandterracepta.org
SUMMARY:PTA General Meeting
DESCRIPTION:HTPTA Board meetings happen monthly\, and there are three designated General PTA Meetings with the agenda geared towards the broader membership. Tuesday\, February 10th is one of those\, so come join us! \nCan’t make it in person? Join via Zoom: https://us02web.zoom.us/my/laradrew
URL:https://highlandterracepta.org/event/pta-general-meeting-4/
LOCATION:Highland Terrace Elementary School\, 100 N 160th St\, Shoreline\, WA 98133\, Shoreline\, 98133\, United States
CATEGORIES:PTA Meeting
END:VEVENT
BEGIN:VEVENT
DTSTART;TZID=America/Los_Angeles:20260310T183000
DTEND;TZID=America/Los_Angeles:20260310T200000
DTSTAMP:20260423T161139
CREATED:20250916T174942Z
LAST-MODIFIED:20250916T174942Z
UID:5894-1773167400-1773172800@highlandterracepta.org
SUMMARY:PTA Board Meeting
DESCRIPTION:
URL:https://highlandterracepta.org/event/pta-board-meeting-27/
LOCATION:Highland Terrace Elementary School\, 100 N 160th St\, Shoreline\, WA 98133\, Shoreline\, 98133\, United States
CATEGORIES:PTA Meeting
END:VEVENT
BEGIN:VEVENT
DTSTART;VALUE=DATE:20260320
DTEND;VALUE=DATE:20260321
DTSTAMP:20260423T161139
CREATED:20251116T043623Z
LAST-MODIFIED:20260310T165310Z
UID:5949-1773964800-1774051199@highlandterracepta.org
SUMMARY:Highland Terrace Live Auction
DESCRIPTION:This is the most impactful PTA fundraiser of the year! Our hope is to raise $65\,000 to fund field trips\, school supplies for every student\, supplies and curriculum for teachers\, and to help cover costs for the 5th-grade Camp Orkila overnight next year. \n Online Auction: Opens Wednesday\, March 18\, and closes at 8:00 PM on March 20 \n Auction Party with Live Bidding\, Photo Booth\, and Bar Games: Friday\, March 20 \n Aurora Borealis in Shoreline\, 7–10 PM\, Doors open at 6:30 PM \n Buy your ticket here before Friday\, March 6! \n  \n Event details and menu can be found here.\n Meet new families.\n Celebrate our school community.\n Eat\, drink\, laugh — no further requirements.\n Volunteers welcome! Sign up to take a shift here. 
URL:https://highlandterracepta.org/event/highland-terrace-auction-2/
LOCATION:Aurora Borealis\, 16708 Aurora Ave N\, Shoreline\, WA\, 98133\, United States
CATEGORIES:Fundraising
END:VEVENT
BEGIN:VEVENT
DTSTART;TZID=America/Los_Angeles:20260414T183000
DTEND;TZID=America/Los_Angeles:20260414T200000
DTSTAMP:20260423T161139
CREATED:20250916T175438Z
LAST-MODIFIED:20250916T175438Z
UID:5900-1776191400-1776196800@highlandterracepta.org
SUMMARY:PTA General Meeting
DESCRIPTION:HTPTA Board meetings happen monthly\, and there are three designated General PTA Meetings with the agenda geared towards the broader membership. Tuesday\, April 14th is one of those\, so come join us! \nCan’t make it in person? Join via Zoom: https://us02web.zoom.us/my/laradrew
URL:https://highlandterracepta.org/event/pta-general-meeting-5/
LOCATION:Highland Terrace Elementary School\, 100 N 160th St\, Shoreline\, WA 98133\, Shoreline\, 98133\, United States
CATEGORIES:PTA Meeting
END:VEVENT
BEGIN:VEVENT
DTSTART;TZID=America/Los_Angeles:20260512T183000
DTEND;TZID=America/Los_Angeles:20260512T200000
DTSTAMP:20260423T161139
CREATED:20250916T175020Z
LAST-MODIFIED:20250916T175020Z
UID:5896-1778610600-1778616000@highlandterracepta.org
SUMMARY:PTA Board Meeting
DESCRIPTION:
URL:https://highlandterracepta.org/event/pta-board-meeting-28/
LOCATION:Highland Terrace Elementary School\, 100 N 160th St\, Shoreline\, WA 98133\, Shoreline\, 98133\, United States
CATEGORIES:PTA Meeting
END:VEVENT
END:VCALENDAR