BEGIN:VCALENDAR
VERSION:2.0
PRODID:-//Highland Terrace PTA - ECPv6.15.20//NONSGML v1.0//EN
CALSCALE:GREGORIAN
METHOD:PUBLISH
X-WR-CALNAME:Highland Terrace PTA
X-ORIGINAL-URL:https://highlandterracepta.org
X-WR-CALDESC:Events for Highland Terrace PTA
REFRESH-INTERVAL;VALUE=DURATION:PT1H
X-Robots-Tag:noindex
X-PUBLISHED-TTL:PT1H
BEGIN:VTIMEZONE
TZID:America/Los_Angeles
BEGIN:DAYLIGHT
TZOFFSETFROM:-0800
TZOFFSETTO:-0700
TZNAME:PDT
DTSTART:20220313T100000
END:DAYLIGHT
BEGIN:STANDARD
TZOFFSETFROM:-0700
TZOFFSETTO:-0800
TZNAME:PST
DTSTART:20221106T090000
END:STANDARD
BEGIN:DAYLIGHT
TZOFFSETFROM:-0800
TZOFFSETTO:-0700
TZNAME:PDT
DTSTART:20230312T100000
END:DAYLIGHT
BEGIN:STANDARD
TZOFFSETFROM:-0700
TZOFFSETTO:-0800
TZNAME:PST
DTSTART:20231105T090000
END:STANDARD
BEGIN:DAYLIGHT
TZOFFSETFROM:-0800
TZOFFSETTO:-0700
TZNAME:PDT
DTSTART:20240310T100000
END:DAYLIGHT
BEGIN:STANDARD
TZOFFSETFROM:-0700
TZOFFSETTO:-0800
TZNAME:PST
DTSTART:20241103T090000
END:STANDARD
BEGIN:DAYLIGHT
TZOFFSETFROM:-0800
TZOFFSETTO:-0700
TZNAME:PDT
DTSTART:20250309T100000
END:DAYLIGHT
BEGIN:STANDARD
TZOFFSETFROM:-0700
TZOFFSETTO:-0800
TZNAME:PST
DTSTART:20251102T090000
END:STANDARD
END:VTIMEZONE
BEGIN:VEVENT
DTSTART;TZID=America/Los_Angeles:20240116T183000
DTEND;TZID=America/Los_Angeles:20240116T200000
DTSTAMP:20260423T102843
CREATED:20230826T064036Z
LAST-MODIFIED:20231003T184553Z
UID:4685-1705429800-1705435200@highlandterracepta.org
SUMMARY:HTPTA January Board Meeting
DESCRIPTION:All are welcome to join us at HTPTA’s January Board meeting on Tuesday\, January 16 in the Highland Terrace Library.
URL:https://highlandterracepta.org/event/january-2024-board-meeting/
LOCATION:Highland Terrace Library\, 100 N 160th St\, Shoreline\, WA\, 98133
CATEGORIES:PTA Meeting
ORGANIZER;CN="Highland Terrace PTA":MAILTO:highlandterracepta@gmail.com
END:VEVENT
BEGIN:VEVENT
DTSTART;TZID=America/Los_Angeles:20231219T183000
DTEND;TZID=America/Los_Angeles:20231219T200000
DTSTAMP:20260423T102843
CREATED:20230826T063926Z
LAST-MODIFIED:20231003T184553Z
UID:4683-1703010600-1703016000@highlandterracepta.org
SUMMARY:HTPTA December Board Meeting
DESCRIPTION:All are welcome to join us at HTPTA’s December Board meeting on Tuesday\, December 19 in the Highland Terrace Library.
URL:https://highlandterracepta.org/event/december-2023-board-meeting/
LOCATION:Highland Terrace Library\, 100 N 160th St\, Shoreline\, WA\, 98133
CATEGORIES:PTA Meeting
ORGANIZER;CN="Highland Terrace PTA":MAILTO:highlandterracepta@gmail.com
END:VEVENT
BEGIN:VEVENT
DTSTART;TZID=America/Los_Angeles:20231121T183000
DTEND;TZID=America/Los_Angeles:20231121T200000
DTSTAMP:20260423T102843
CREATED:20230826T063353Z
LAST-MODIFIED:20231003T184553Z
UID:4680-1700591400-1700596800@highlandterracepta.org
SUMMARY:HTPTA November Board Meeting
DESCRIPTION:All are welcome to join us at HTPTA’s November Board meeting on Tuesday\, November 21 in the Highland Terrace Library.
URL:https://highlandterracepta.org/event/november-2023-board-meeting/
LOCATION:Highland Terrace Library\, 100 N 160th St\, Shoreline\, WA\, 98133
CATEGORIES:PTA Meeting
ORGANIZER;CN="Highland Terrace PTA":MAILTO:highlandterracepta@gmail.com
END:VEVENT
BEGIN:VEVENT
DTSTART;TZID=America/Los_Angeles:20231017T183000
DTEND;TZID=America/Los_Angeles:20231017T200000
DTSTAMP:20260423T102843
CREATED:20230826T063244Z
LAST-MODIFIED:20231017T064327Z
UID:4678-1697567400-1697572800@highlandterracepta.org
SUMMARY:HTPTA October Board Meeting
DESCRIPTION:All are welcome to join us at HTPTA’s October Board meeting. Held in the Highland Terrace Library. \nView meeting agenda
URL:https://highlandterracepta.org/event/october-2023-board-meeting/
LOCATION:Highland Terrace Library\, 100 N 160th St\, Shoreline\, WA\, 98133
CATEGORIES:PTA Meeting
ORGANIZER;CN="Highland Terrace PTA":MAILTO:highlandterracepta@gmail.com
END:VEVENT
END:VCALENDAR