BEGIN:VCALENDAR
VERSION:2.0
PRODID:-//Highland Terrace PTA - ECPv6.15.20//NONSGML v1.0//EN
CALSCALE:GREGORIAN
METHOD:PUBLISH
X-WR-CALNAME:Highland Terrace PTA
X-ORIGINAL-URL:https://highlandterracepta.org
X-WR-CALDESC:Events for Highland Terrace PTA
REFRESH-INTERVAL;VALUE=DURATION:PT1H
X-Robots-Tag:noindex
X-PUBLISHED-TTL:PT1H
BEGIN:VTIMEZONE
TZID:America/Los_Angeles
BEGIN:DAYLIGHT
TZOFFSETFROM:-0800
TZOFFSETTO:-0700
TZNAME:PDT
DTSTART:20230312T100000
END:DAYLIGHT
BEGIN:STANDARD
TZOFFSETFROM:-0700
TZOFFSETTO:-0800
TZNAME:PST
DTSTART:20231105T090000
END:STANDARD
BEGIN:DAYLIGHT
TZOFFSETFROM:-0800
TZOFFSETTO:-0700
TZNAME:PDT
DTSTART:20240310T100000
END:DAYLIGHT
BEGIN:STANDARD
TZOFFSETFROM:-0700
TZOFFSETTO:-0800
TZNAME:PST
DTSTART:20241103T090000
END:STANDARD
BEGIN:DAYLIGHT
TZOFFSETFROM:-0800
TZOFFSETTO:-0700
TZNAME:PDT
DTSTART:20250309T100000
END:DAYLIGHT
BEGIN:STANDARD
TZOFFSETFROM:-0700
TZOFFSETTO:-0800
TZNAME:PST
DTSTART:20251102T090000
END:STANDARD
END:VTIMEZONE
BEGIN:VEVENT
DTSTART;TZID=America/Los_Angeles:20240119T181500
DTEND;TZID=America/Los_Angeles:20240119T200000
DTSTAMP:20260425T040854
CREATED:20230826T055513Z
LAST-MODIFIED:20240112T203636Z
UID:4664-1705688100-1705694400@highlandterracepta.org
SUMMARY:Family Movie Night: Trolls Band Together
DESCRIPTION:Join us for a free showing of Trolls Band Together in the Highland Terrace gym. Doors open at 6:15pm\, movie begins at 6:30pm. \nPajamas welcome! Bring your favorite stuffy\, water bottle\, camping chairs\, blankets\, pillows\, etc. Gym mats will be available to sit on. PTA will be serving popcorn! \nDuring the movie\, there will also be an adult education presentation on Emotional Regulation with guest speaker Frances Coppa in the library. HT students ages 5-12 are invited to attend the movie while their guardians attend the talk in the library. \n** This is not a drop-off event. Guardians are expected to supervise their children at the movie or attend the presentation in the library. Children under 5 must be supervised by an adult at all times. ** \n 
URL:https://highlandterracepta.org/event/family-movie-night-jan-2024/
LOCATION:Highland Terrace Gym\, 100 N 160th St\, Shoreline\, WA\, 98133
CATEGORIES:Movie Night
ORGANIZER;CN="Highland Terrace PTA":MAILTO:highlandterracepta@gmail.com
END:VEVENT
END:VCALENDAR