BEGIN:VCALENDAR
VERSION:2.0
PRODID:-//Highland Terrace PTA - ECPv6.15.20//NONSGML v1.0//EN
CALSCALE:GREGORIAN
METHOD:PUBLISH
X-ORIGINAL-URL:https://highlandterracepta.org
X-WR-CALDESC:Events for Highland Terrace PTA
REFRESH-INTERVAL;VALUE=DURATION:PT1H
X-Robots-Tag:noindex
X-PUBLISHED-TTL:PT1H
BEGIN:VTIMEZONE
TZID:America/Los_Angeles
BEGIN:DAYLIGHT
TZOFFSETFROM:-0800
TZOFFSETTO:-0700
TZNAME:PDT
DTSTART:20220313T100000
END:DAYLIGHT
BEGIN:STANDARD
TZOFFSETFROM:-0700
TZOFFSETTO:-0800
TZNAME:PST
DTSTART:20221106T090000
END:STANDARD
BEGIN:DAYLIGHT
TZOFFSETFROM:-0800
TZOFFSETTO:-0700
TZNAME:PDT
DTSTART:20230312T100000
END:DAYLIGHT
BEGIN:STANDARD
TZOFFSETFROM:-0700
TZOFFSETTO:-0800
TZNAME:PST
DTSTART:20231105T090000
END:STANDARD
BEGIN:DAYLIGHT
TZOFFSETFROM:-0800
TZOFFSETTO:-0700
TZNAME:PDT
DTSTART:20240310T100000
END:DAYLIGHT
BEGIN:STANDARD
TZOFFSETFROM:-0700
TZOFFSETTO:-0800
TZNAME:PST
DTSTART:20241103T090000
END:STANDARD
BEGIN:DAYLIGHT
TZOFFSETFROM:-0800
TZOFFSETTO:-0700
TZNAME:PDT
DTSTART:20250309T100000
END:DAYLIGHT
BEGIN:STANDARD
TZOFFSETFROM:-0700
TZOFFSETTO:-0800
TZNAME:PST
DTSTART:20251102T090000
END:STANDARD
BEGIN:DAYLIGHT
TZOFFSETFROM:-0800
TZOFFSETTO:-0700
TZNAME:PDT
DTSTART:20260308T100000
END:DAYLIGHT
BEGIN:STANDARD
TZOFFSETFROM:-0700
TZOFFSETTO:-0800
TZNAME:PST
DTSTART:20261101T090000
END:STANDARD
BEGIN:DAYLIGHT
TZOFFSETFROM:-0800
TZOFFSETTO:-0700
TZNAME:PDT
DTSTART:20270314T100000
END:DAYLIGHT
BEGIN:STANDARD
TZOFFSETFROM:-0700
TZOFFSETTO:-0800
TZNAME:PST
DTSTART:20271107T090000
END:STANDARD
END:VTIMEZONE
BEGIN:VEVENT
DTSTART;VALUE=DATE:20260320
DTEND;VALUE=DATE:20260321
DTSTAMP:20260423T101059
CREATED:20251116T043623Z
LAST-MODIFIED:20260310T165310Z
UID:5949-1773964800-1774051199@highlandterracepta.org
SUMMARY:Highland Terrace Live Auction
DESCRIPTION:This is the most impactful PTA fundraiser of the year! Our hope is to raise $65\,000 to fund field trips\, school supplies for every student\, supplies and curriculum for teachers\, and to help cover costs for the 5th-grade Camp Orkila overnight next year. \n Online Auction: Opens Wednesday\, March 18\, and closes at 8:00 PM on March 20 \n Auction Party with Live Bidding\, Photo Booth\, and Bar Games: Friday\, March 20 \n Aurora Borealis in Shoreline\, 7–10 PM\, Doors open at 6:30 PM \n Buy your ticket here before Friday\, March 6! \n  \n Event details and menu can be found here.\n Meet new families.\n Celebrate our school community.\n Eat\, drink\, laugh — no further requirements.\n Volunteers welcome! Sign up to take a shift here. 
URL:https://highlandterracepta.org/event/highland-terrace-auction-2/
LOCATION:Aurora Borealis\, 16708 Aurora Ave N\, Shoreline\, WA\, 98133\, United States
CATEGORIES:Fundraising
END:VEVENT
BEGIN:VEVENT
DTSTART;VALUE=DATE:20240203
DTEND;VALUE=DATE:20240208
DTSTAMP:20260423T101059
CREATED:20230826T060328Z
LAST-MODIFIED:20240201T234755Z
UID:4668-1706918400-1707350399@highlandterracepta.org
SUMMARY:Scholastic Book Fair
DESCRIPTION:The Scholastic Book Fair kicks off on February 3 during the Pancake Breakfast and runs through February 7. Come shop and support our school library–50% of sales goes to the HT library for new books and materials (note: the book fair is not a PTA fundraiser). \nBook Fair schedule:\nSaturday 2/3 \n\n7:45am – 11am:  Official kickoff during Pancake Breakfast\n\nMonday-Wednesday 2/5-2/7 \n\n11am-12:30pm: Students can shop during lunch recess\n3:35pm-4pm: After school shopping w/ a family member\n\nIf your student plans to shop during lunch recess\, consider setting up an eWallet so they don’t have to carry cash. You can set up an eWallet on the Scholastic website here. \nWe need volunteers!\nSign up to help out at the book fair.
URL:https://highlandterracepta.org/event/scholastic-book-fair-2024/
LOCATION:Highland Terrace Library\, 100 N 160th St\, Shoreline\, WA\, 98133
CATEGORIES:Fundraising
END:VEVENT
BEGIN:VEVENT
DTSTART;TZID=America/Los_Angeles:20231020T140000
DTEND;TZID=America/Los_Angeles:20231020T150000
DTSTAMP:20260423T101059
CREATED:20230913T063458Z
LAST-MODIFIED:20231003T182542Z
UID:4752-1697810400-1697814000@highlandterracepta.org
SUMMARY:Move-a-Thon
DESCRIPTION:Each year Highland Terrace holds a Move-a-Thon to raise money for the school’s Associated Student Body (ASB) fund. Highland Terrace uses these funds to directly support students with scholarships\, playground/recess equipment\, special events and projects\, and field trips. Students collect and record donations using the pledge sheet sent home in classroom folders. \nDuring Move-a-Thon students will run/walk/move as a whole school around the outside perimeter of the school building. We need LOTS of volunteers to help have eyes-on\, guide\, encourage\, and cheer on our movers! \nSign up to volunteer at Move-a-Thon here \n  \nNote: Move-a-Thon is not a PTA fundraiser
URL:https://highlandterracepta.org/event/move-a-thon-2023/
LOCATION:Highland Terrace Elementary\, 100 N 160th St\, Shoreline\, WA\, 98133
CATEGORIES:Fundraising
END:VEVENT
BEGIN:VEVENT
DTSTART;VALUE=DATE:20231008
DTEND;VALUE=DATE:20231013
DTSTAMP:20260423T101059
CREATED:20230907T182250Z
LAST-MODIFIED:20230923T010259Z
UID:4728-1696723200-1697155199@highlandterracepta.org
SUMMARY:Round Table Pizza Fundraiser
DESCRIPTION:Grab a pizza at Round Table in Shoreline and earn funds for Highland Terrace PTA. Dine in or order takeout anytime from Sunday\, October 8 through Thursday\, October 12. Mention Highland Terrace while placing your order and HTPTA will receive 20% of your purchase (excluding alcohol). \nShoreline location only.
URL:https://highlandterracepta.org/event/round-table-pizza-fundraiser-2/
LOCATION:Round Table Pizza\, 15725 Westminster Way N Suite B\, Shoreline\, WA\, 98133
CATEGORIES:Fundraising
ORGANIZER;CN="Highland Terrace PTA":MAILTO:highlandterracepta@gmail.com
END:VEVENT
BEGIN:VEVENT
DTSTART;VALUE=DATE:20230906
DTEND;VALUE=DATE:20231007
DTSTAMP:20260423T101059
CREATED:20230906T064839Z
LAST-MODIFIED:20230923T003727Z
UID:4719-1693958400-1696636799@highlandterracepta.org
SUMMARY:Orca Pride Annual Give
DESCRIPTION:Our goal for this year’s annual fundraising appeal is to raise $18\,000 by October 6. \nDonate today and help us reach our goal
URL:https://highlandterracepta.org/event/annual-appeal-2023/
LOCATION:WA
CATEGORIES:Fundraising
ORGANIZER;CN="Highland Terrace PTA":MAILTO:highlandterracepta@gmail.com
END:VEVENT
END:VCALENDAR