BEGIN:VCALENDAR
VERSION:2.0
PRODID:-//Highland Terrace PTA - ECPv6.15.20//NONSGML v1.0//EN
CALSCALE:GREGORIAN
METHOD:PUBLISH
X-WR-CALNAME:Highland Terrace PTA
X-ORIGINAL-URL:https://highlandterracepta.org
X-WR-CALDESC:Events for Highland Terrace PTA
REFRESH-INTERVAL;VALUE=DURATION:PT1H
X-Robots-Tag:noindex
X-PUBLISHED-TTL:PT1H
BEGIN:VTIMEZONE
TZID:America/Los_Angeles
BEGIN:DAYLIGHT
TZOFFSETFROM:-0800
TZOFFSETTO:-0700
TZNAME:PDT
DTSTART:20230312T100000
END:DAYLIGHT
BEGIN:STANDARD
TZOFFSETFROM:-0700
TZOFFSETTO:-0800
TZNAME:PST
DTSTART:20231105T090000
END:STANDARD
BEGIN:DAYLIGHT
TZOFFSETFROM:-0800
TZOFFSETTO:-0700
TZNAME:PDT
DTSTART:20240310T100000
END:DAYLIGHT
BEGIN:STANDARD
TZOFFSETFROM:-0700
TZOFFSETTO:-0800
TZNAME:PST
DTSTART:20241103T090000
END:STANDARD
BEGIN:DAYLIGHT
TZOFFSETFROM:-0800
TZOFFSETTO:-0700
TZNAME:PDT
DTSTART:20250309T100000
END:DAYLIGHT
BEGIN:STANDARD
TZOFFSETFROM:-0700
TZOFFSETTO:-0800
TZNAME:PST
DTSTART:20251102T090000
END:STANDARD
END:VTIMEZONE
BEGIN:VEVENT
DTSTART;TZID=America/Los_Angeles:20241108T170000
DTEND;TZID=America/Los_Angeles:20241108T190000
DTSTAMP:20260423T132156
CREATED:20241027T214951Z
LAST-MODIFIED:20241027T214951Z
UID:5723-1731085200-1731092400@highlandterracepta.org
SUMMARY:Family Skate Night
DESCRIPTION:Join us for a fantastic Family Skate Night! Whether you’re a seasoned pro or a first-time skater\, it’s going to be a night of fun\, laughter\, and great memories! Sure to be the event everyone talks about all year!
URL:https://highlandterracepta.org/event/family-skate-night/
LOCATION:Lynnwood Bowl & Skate\, 6210 200th St SW\, Lynnwood\, Washington\, 98036
CATEGORIES:Community Building,Skate Night
ORGANIZER;CN="Highland Terrace PTA":MAILTO:highlandterracepta@gmail.com
END:VEVENT
BEGIN:VEVENT
DTSTART;TZID=America/Los_Angeles:20240826T163000
DTEND;TZID=America/Los_Angeles:20240826T173000
DTSTAMP:20260423T132156
CREATED:20240825T210105Z
LAST-MODIFIED:20240825T210105Z
UID:5591-1724689800-1724693400@highlandterracepta.org
SUMMARY:Classroom Supply Drop-off & Ice Cream Social
DESCRIPTION:4:30-5:00 Classroom Supply Drop-off\n5:00-5:30 Ice Cream Social on the Playground
URL:https://highlandterracepta.org/event/classroom-supply-drop-off-ice-cream-social/
LOCATION:Highland Terrace Elementary School\, 100 N 160th St\, Shoreline\, WA 98133\, Shoreline\, 98133\, United States
CATEGORIES:Community Building
END:VEVENT
END:VCALENDAR