BEGIN:VCALENDAR
VERSION:2.0
PRODID:-//Highland Terrace PTA - ECPv6.15.20//NONSGML v1.0//EN
CALSCALE:GREGORIAN
METHOD:PUBLISH
X-ORIGINAL-URL:https://highlandterracepta.org
X-WR-CALDESC:Events for Highland Terrace PTA
REFRESH-INTERVAL;VALUE=DURATION:PT1H
X-Robots-Tag:noindex
X-PUBLISHED-TTL:PT1H
BEGIN:VTIMEZONE
TZID:America/Los_Angeles
BEGIN:DAYLIGHT
TZOFFSETFROM:-0800
TZOFFSETTO:-0700
TZNAME:PDT
DTSTART:20240310T100000
END:DAYLIGHT
BEGIN:STANDARD
TZOFFSETFROM:-0700
TZOFFSETTO:-0800
TZNAME:PST
DTSTART:20241103T090000
END:STANDARD
BEGIN:DAYLIGHT
TZOFFSETFROM:-0800
TZOFFSETTO:-0700
TZNAME:PDT
DTSTART:20250309T100000
END:DAYLIGHT
BEGIN:STANDARD
TZOFFSETFROM:-0700
TZOFFSETTO:-0800
TZNAME:PST
DTSTART:20251102T090000
END:STANDARD
BEGIN:DAYLIGHT
TZOFFSETFROM:-0800
TZOFFSETTO:-0700
TZNAME:PDT
DTSTART:20260308T100000
END:DAYLIGHT
BEGIN:STANDARD
TZOFFSETFROM:-0700
TZOFFSETTO:-0800
TZNAME:PST
DTSTART:20261101T090000
END:STANDARD
END:VTIMEZONE
BEGIN:VEVENT
DTSTART;TZID=America/Los_Angeles:20250413T130000
DTEND;TZID=America/Los_Angeles:20250413T170000
DTSTAMP:20260423T234637
CREATED:20250128T062329Z
LAST-MODIFIED:20250128T062329Z
UID:5783-1744549200-1744563600@highlandterracepta.org
SUMMARY:HT Family Mariners Game Day
DESCRIPTION:  \n \nIf you haven’t joined for this event in the past\, you don’t want to miss it this year! Join other HT families at the ballpark for an afternoon of sun (hopefully)\, hotdogs\, and baseball with friends. \nMore information to come on how to buy tickets
URL:https://highlandterracepta.org/event/ht-family-mariners-game-day/
LOCATION:T-Mobile Park\, 1250 1st Ave S\, Seattle\, WA\, 98134
ORGANIZER;CN="Highland Terrace PTA":MAILTO:highlandterracepta@gmail.com
END:VEVENT
END:VCALENDAR