BEGIN:VCALENDAR
VERSION:2.0
PRODID:-//Highland Terrace PTA - ECPv6.15.20//NONSGML v1.0//EN
CALSCALE:GREGORIAN
METHOD:PUBLISH
X-WR-CALNAME:Highland Terrace PTA
X-ORIGINAL-URL:https://highlandterracepta.org
X-WR-CALDESC:Events for Highland Terrace PTA
REFRESH-INTERVAL;VALUE=DURATION:PT1H
X-Robots-Tag:noindex
X-PUBLISHED-TTL:PT1H
BEGIN:VTIMEZONE
TZID:America/Los_Angeles
BEGIN:DAYLIGHT
TZOFFSETFROM:-0800
TZOFFSETTO:-0700
TZNAME:PDT
DTSTART:20240310T100000
END:DAYLIGHT
BEGIN:STANDARD
TZOFFSETFROM:-0700
TZOFFSETTO:-0800
TZNAME:PST
DTSTART:20241103T090000
END:STANDARD
BEGIN:DAYLIGHT
TZOFFSETFROM:-0800
TZOFFSETTO:-0700
TZNAME:PDT
DTSTART:20250309T100000
END:DAYLIGHT
BEGIN:STANDARD
TZOFFSETFROM:-0700
TZOFFSETTO:-0800
TZNAME:PST
DTSTART:20251102T090000
END:STANDARD
BEGIN:DAYLIGHT
TZOFFSETFROM:-0800
TZOFFSETTO:-0700
TZNAME:PDT
DTSTART:20260308T100000
END:DAYLIGHT
BEGIN:STANDARD
TZOFFSETFROM:-0700
TZOFFSETTO:-0800
TZNAME:PST
DTSTART:20261101T090000
END:STANDARD
END:VTIMEZONE
BEGIN:VEVENT
DTSTART;VALUE=DATE:20250328
DTEND;VALUE=DATE:20250405
DTSTAMP:20260424T010355
CREATED:20250319T041135Z
LAST-MODIFIED:20250319T041135Z
UID:5803-1743120000-1743811199@highlandterracepta.org
SUMMARY:HT Auction Online Bidding Begins
DESCRIPTION:The Auction is Back! Join us for a night out with a good cause! 🎉 \nJoin your Highland Terrace community on Saturday\, April 5th for a night of fun\, food\, and fundraising\, With this year’s district budget shortfall\, we’re stepping up to support our students\, staff\, and school. Money raised will support the funding of in-class enrichment\, field trips\, assemblies\, and community events. We also hope to add a permanent\, changeable letter board to the front of the school.  \nWe’re changing up the format slightly from last year with the majority of online bidding happening during the week leading up to our Auction Party. This in-person event will celebrate the online fundraising efforts and culminate with final fundraising games\, raffle\, and raise-the-paddle. \n  \nOnline Auction: Friday\, March 28th – Friday\, April 4th \nAuction Party: Saturday\, April 5th – 7:00 to 9:30 PM at the Innis Arden Clubhouse  \n  \n🔥 Our website is LIVE\, and tickets to the party are on sale NOW! 🔥\n🎟️ Tickets are $50 – HEAD HERE TO PURCHASE! \nYour event ticket includes:\n🍽️ Light bites\n🍰 Dessert bar \n🥤 Water/Soda\n🍹 One alcoholic drink ticket (cheers to that!)
URL:https://highlandterracepta.org/event/ht-auction-online-bidding-begins/
LOCATION:WA
ORGANIZER;CN="HT PTA Auction Committee":MAILTO:htptaauction@gmail.com
END:VEVENT
END:VCALENDAR