BEGIN:VCALENDAR
VERSION:2.0
PRODID:-//Highland Terrace PTA - ECPv6.15.20//NONSGML v1.0//EN
CALSCALE:GREGORIAN
METHOD:PUBLISH
X-WR-CALNAME:Highland Terrace PTA
X-ORIGINAL-URL:https://highlandterracepta.org
X-WR-CALDESC:Events for Highland Terrace PTA
REFRESH-INTERVAL;VALUE=DURATION:PT1H
X-Robots-Tag:noindex
X-PUBLISHED-TTL:PT1H
BEGIN:VTIMEZONE
TZID:America/Los_Angeles
BEGIN:DAYLIGHT
TZOFFSETFROM:-0800
TZOFFSETTO:-0700
TZNAME:PDT
DTSTART:20230312T100000
END:DAYLIGHT
BEGIN:STANDARD
TZOFFSETFROM:-0700
TZOFFSETTO:-0800
TZNAME:PST
DTSTART:20231105T090000
END:STANDARD
BEGIN:DAYLIGHT
TZOFFSETFROM:-0800
TZOFFSETTO:-0700
TZNAME:PDT
DTSTART:20240310T100000
END:DAYLIGHT
BEGIN:STANDARD
TZOFFSETFROM:-0700
TZOFFSETTO:-0800
TZNAME:PST
DTSTART:20241103T090000
END:STANDARD
BEGIN:DAYLIGHT
TZOFFSETFROM:-0800
TZOFFSETTO:-0700
TZNAME:PDT
DTSTART:20250309T100000
END:DAYLIGHT
BEGIN:STANDARD
TZOFFSETFROM:-0700
TZOFFSETTO:-0800
TZNAME:PST
DTSTART:20251102T090000
END:STANDARD
END:VTIMEZONE
BEGIN:VEVENT
DTSTART;TZID=America/Los_Angeles:20241021T180000
DTEND;TZID=America/Los_Angeles:20241021T193000
DTSTAMP:20260424T081033
CREATED:20241003T043121Z
LAST-MODIFIED:20241010T034455Z
UID:5689-1729533600-1729539000@highlandterracepta.org
SUMMARY:Festival of Cultures
DESCRIPTION:Event\nJoin us for this free community event celebrating the many cultures\, heritages\, countries\, and states of origin represented in our HT community. Feel free to come wearing clothing that represents your heritage and tradition. \nPotluck Buffet\nWe invite everyone to bring a dish to share for the potluck buffet. Please label it with the country of origin and recipe. We’ll build a cookbook to share with all Orcas electronically following the event.  *PLEASE note dishes with nuts* \nFor more info\, check out the Festival of Cultures page under Events on our website
URL:https://highlandterracepta.org/event/festival-of-cultures-2/
LOCATION:Highland Terrace Elementary School\, 100 N 160th St\, Shoreline\, WA 98133\, Shoreline\, 98133\, United States
END:VEVENT
END:VCALENDAR