BEGIN:VCALENDAR
VERSION:2.0
PRODID:-//Highland Terrace PTA - ECPv6.15.20//NONSGML v1.0//EN
CALSCALE:GREGORIAN
METHOD:PUBLISH
X-ORIGINAL-URL:https://highlandterracepta.org
X-WR-CALDESC:Events for Highland Terrace PTA
REFRESH-INTERVAL;VALUE=DURATION:PT1H
X-Robots-Tag:noindex
X-PUBLISHED-TTL:PT1H
BEGIN:VTIMEZONE
TZID:America/Los_Angeles
BEGIN:DAYLIGHT
TZOFFSETFROM:-0800
TZOFFSETTO:-0700
TZNAME:PDT
DTSTART:20230312T100000
END:DAYLIGHT
BEGIN:STANDARD
TZOFFSETFROM:-0700
TZOFFSETTO:-0800
TZNAME:PST
DTSTART:20231105T090000
END:STANDARD
BEGIN:DAYLIGHT
TZOFFSETFROM:-0800
TZOFFSETTO:-0700
TZNAME:PDT
DTSTART:20240310T100000
END:DAYLIGHT
BEGIN:STANDARD
TZOFFSETFROM:-0700
TZOFFSETTO:-0800
TZNAME:PST
DTSTART:20241103T090000
END:STANDARD
BEGIN:DAYLIGHT
TZOFFSETFROM:-0800
TZOFFSETTO:-0700
TZNAME:PDT
DTSTART:20250309T100000
END:DAYLIGHT
BEGIN:STANDARD
TZOFFSETFROM:-0700
TZOFFSETTO:-0800
TZNAME:PST
DTSTART:20251102T090000
END:STANDARD
END:VTIMEZONE
BEGIN:VEVENT
DTSTART;TZID=America/Los_Angeles:20240504T190500
DTEND;TZID=America/Los_Angeles:20240504T223000
DTSTAMP:20260424T142914
CREATED:20240304T071909Z
LAST-MODIFIED:20240304T071909Z
UID:5284-1714849500-1714861800@highlandterracepta.org
SUMMARY:HT Night @ Everett Aquasox Baseball
DESCRIPTION:Join us for an HT outing at the ballpark! The Everett Aquasox are offering HT families discounted tickets to Star Wars Night on May 4. \nGet tickets here \nEnjoy a pre- and post-game Star Wars show and take photos with some of your favorite characters on the concourse throughout the game. After the game the fun continues with a fireworks show set to music from Star Wars. \nThe team will be wearing special Star Wars uniforms and concessions will feature special Star Wars food and drinks. Free parking in the south lot. \nFirst pitch is at 7:05pm.
URL:https://highlandterracepta.org/event/ht-night-aquasox-baseball/
LOCATION:Funko Field\, 3900 Broadway\, Everett\, WA\, 98201
END:VEVENT
END:VCALENDAR