BEGIN:VCALENDAR
VERSION:2.0
PRODID:-//Highland Terrace PTA - ECPv6.15.20//NONSGML v1.0//EN
CALSCALE:GREGORIAN
METHOD:PUBLISH
X-WR-CALNAME:Highland Terrace PTA
X-ORIGINAL-URL:https://highlandterracepta.org
X-WR-CALDESC:Events for Highland Terrace PTA
REFRESH-INTERVAL;VALUE=DURATION:PT1H
X-Robots-Tag:noindex
X-PUBLISHED-TTL:PT1H
BEGIN:VTIMEZONE
TZID:America/Los_Angeles
BEGIN:DAYLIGHT
TZOFFSETFROM:-0800
TZOFFSETTO:-0700
TZNAME:PDT
DTSTART:20230312T100000
END:DAYLIGHT
BEGIN:STANDARD
TZOFFSETFROM:-0700
TZOFFSETTO:-0800
TZNAME:PST
DTSTART:20231105T090000
END:STANDARD
BEGIN:DAYLIGHT
TZOFFSETFROM:-0800
TZOFFSETTO:-0700
TZNAME:PDT
DTSTART:20240310T100000
END:DAYLIGHT
BEGIN:STANDARD
TZOFFSETFROM:-0700
TZOFFSETTO:-0800
TZNAME:PST
DTSTART:20241103T090000
END:STANDARD
BEGIN:DAYLIGHT
TZOFFSETFROM:-0800
TZOFFSETTO:-0700
TZNAME:PDT
DTSTART:20250309T100000
END:DAYLIGHT
BEGIN:STANDARD
TZOFFSETFROM:-0700
TZOFFSETTO:-0800
TZNAME:PST
DTSTART:20251102T090000
END:STANDARD
END:VTIMEZONE
BEGIN:VEVENT
DTSTART;VALUE=DATE:20240401
DTEND;VALUE=DATE:20240413
DTSTAMP:20260424T154521
CREATED:20230826T062031Z
LAST-MODIFIED:20240319T210642Z
UID:4672-1711929600-1712966399@highlandterracepta.org
SUMMARY:Read-a-Thon & Community Read
DESCRIPTION:Read-a-Thon is an opportunity for students to celebrate reading while raising funds for PTA-sponsored programs and projects at Highland Terrace. This is our largest annual fundraiser for the PTA and your support is important! Check out the Read-a-Thon page to get a feel for what it’s all about. More details for Read-a-Thon 2024 coming soon. \nThis year HT PTA is excited to bring back Community Read! Students\, families\, and staff will read A Boy Called Bat by Elana K. Arnold together during Read-a-Thon. All students will receive a copy of the book to read and keep. Check out the Community Read 2024 page for all the details. \n  \n 
URL:https://highlandterracepta.org/event/read-a-thon-2024/
LOCATION:Highland Terrace Elementary\, 100 N 160th St\, Shoreline\, WA\, 98133
ATTACH;FMTTYPE=image/png:https://highlandterracepta.org/wp-content/uploads/2024/03/readathon-2024.png
ORGANIZER;CN="Highland Terrace PTA":MAILTO:highlandterracepta@gmail.com
END:VEVENT
END:VCALENDAR