BEGIN:VCALENDAR
VERSION:2.0
PRODID:-//Highland Terrace PTA - ECPv6.15.20//NONSGML v1.0//EN
CALSCALE:GREGORIAN
METHOD:PUBLISH
X-WR-CALNAME:Highland Terrace PTA
X-ORIGINAL-URL:https://highlandterracepta.org
X-WR-CALDESC:Events for Highland Terrace PTA
REFRESH-INTERVAL;VALUE=DURATION:PT1H
X-Robots-Tag:noindex
X-PUBLISHED-TTL:PT1H
BEGIN:VTIMEZONE
TZID:America/Los_Angeles
BEGIN:DAYLIGHT
TZOFFSETFROM:-0800
TZOFFSETTO:-0700
TZNAME:PDT
DTSTART:20220313T100000
END:DAYLIGHT
BEGIN:STANDARD
TZOFFSETFROM:-0700
TZOFFSETTO:-0800
TZNAME:PST
DTSTART:20221106T090000
END:STANDARD
BEGIN:DAYLIGHT
TZOFFSETFROM:-0800
TZOFFSETTO:-0700
TZNAME:PDT
DTSTART:20230312T100000
END:DAYLIGHT
BEGIN:STANDARD
TZOFFSETFROM:-0700
TZOFFSETTO:-0800
TZNAME:PST
DTSTART:20231105T090000
END:STANDARD
BEGIN:DAYLIGHT
TZOFFSETFROM:-0800
TZOFFSETTO:-0700
TZNAME:PDT
DTSTART:20240310T100000
END:DAYLIGHT
BEGIN:STANDARD
TZOFFSETFROM:-0700
TZOFFSETTO:-0800
TZNAME:PST
DTSTART:20241103T090000
END:STANDARD
END:VTIMEZONE
BEGIN:VEVENT
DTSTART;VALUE=DATE:20230508
DTEND;VALUE=DATE:20230513
DTSTAMP:20260425T064810
CREATED:20230415T043100Z
LAST-MODIFIED:20230503T182706Z
UID:4495-1683504000-1683935999@highlandterracepta.org
SUMMARY:Teacher Appreciation Week
DESCRIPTION:Let’s come together to celebrate our wonderful teachers! \nSee ideas for how to participate each day of the week here.
URL:https://highlandterracepta.org/event/teacher-appreciation-week-2023/
LOCATION:Highland Terrace Elementary\, 100 N 160th St\, Shoreline\, WA\, 98133
ORGANIZER;CN="Highland Terrace PTA":MAILTO:highlandterracepta@gmail.com
END:VEVENT
BEGIN:VEVENT
DTSTART;TZID=America/Los_Angeles:20230509T183000
DTEND;TZID=America/Los_Angeles:20230509T200000
DTSTAMP:20260425T064810
CREATED:20230415T043705Z
LAST-MODIFIED:20230415T043705Z
UID:4499-1683657000-1683662400@highlandterracepta.org
SUMMARY:HTPTA May Board Meeting
DESCRIPTION:Join us for HTPTA’s May Board meeting on Tuesday\, May 9 in the Highland Terrace Library. All are welcome to attend.
URL:https://highlandterracepta.org/event/may-2023-board-meeting/
LOCATION:Highland Terrace Library\, 100 N 160th St\, Shoreline\, WA\, 98133
ORGANIZER;CN="Highland Terrace PTA":MAILTO:highlandterracepta@gmail.com
END:VEVENT
END:VCALENDAR