BEGIN:VCALENDAR
VERSION:2.0
PRODID:-//Highland Terrace PTA - ECPv6.15.20//NONSGML v1.0//EN
CALSCALE:GREGORIAN
METHOD:PUBLISH
X-ORIGINAL-URL:https://highlandterracepta.org
X-WR-CALDESC:Events for Highland Terrace PTA
REFRESH-INTERVAL;VALUE=DURATION:PT1H
X-Robots-Tag:noindex
X-PUBLISHED-TTL:PT1H
BEGIN:VTIMEZONE
TZID:America/Los_Angeles
BEGIN:DAYLIGHT
TZOFFSETFROM:-0800
TZOFFSETTO:-0700
TZNAME:PDT
DTSTART:20220313T100000
END:DAYLIGHT
BEGIN:STANDARD
TZOFFSETFROM:-0700
TZOFFSETTO:-0800
TZNAME:PST
DTSTART:20221106T090000
END:STANDARD
BEGIN:DAYLIGHT
TZOFFSETFROM:-0800
TZOFFSETTO:-0700
TZNAME:PDT
DTSTART:20230312T100000
END:DAYLIGHT
BEGIN:STANDARD
TZOFFSETFROM:-0700
TZOFFSETTO:-0800
TZNAME:PST
DTSTART:20231105T090000
END:STANDARD
BEGIN:DAYLIGHT
TZOFFSETFROM:-0800
TZOFFSETTO:-0700
TZNAME:PDT
DTSTART:20240310T100000
END:DAYLIGHT
BEGIN:STANDARD
TZOFFSETFROM:-0700
TZOFFSETTO:-0800
TZNAME:PST
DTSTART:20241103T090000
END:STANDARD
END:VTIMEZONE
BEGIN:VEVENT
DTSTART;TZID=America/Los_Angeles:20230502T180000
DTEND;TZID=America/Los_Angeles:20230502T193000
DTSTAMP:20260425T064809
CREATED:20230306T185717Z
LAST-MODIFIED:20230306T202312Z
UID:4192-1683050400-1683055800@highlandterracepta.org
SUMMARY:Festival of Cultures
DESCRIPTION:This favorite HTPTA tradition returns in-person this year on May 2nd. We hope everyone can join us for this free community event. \nSee the Festival of Cultures page for more details.
URL:https://highlandterracepta.org/event/festival-of-cultures-2023/
LOCATION:Highland Terrace Elementary\, 100 N 160th St\, Shoreline\, WA\, 98133
ORGANIZER;CN="Highland Terrace PTA":MAILTO:highlandterracepta@gmail.com
END:VEVENT
END:VCALENDAR