BEGIN:VCALENDAR
VERSION:2.0
PRODID:-//Highland Terrace PTA - ECPv6.15.20//NONSGML v1.0//EN
CALSCALE:GREGORIAN
METHOD:PUBLISH
X-WR-CALNAME:Highland Terrace PTA
X-ORIGINAL-URL:https://highlandterracepta.org
X-WR-CALDESC:Events for Highland Terrace PTA
REFRESH-INTERVAL;VALUE=DURATION:PT1H
X-Robots-Tag:noindex
X-PUBLISHED-TTL:PT1H
BEGIN:VTIMEZONE
TZID:America/Los_Angeles
BEGIN:DAYLIGHT
TZOFFSETFROM:-0800
TZOFFSETTO:-0700
TZNAME:PDT
DTSTART:20220313T100000
END:DAYLIGHT
BEGIN:STANDARD
TZOFFSETFROM:-0700
TZOFFSETTO:-0800
TZNAME:PST
DTSTART:20221106T090000
END:STANDARD
BEGIN:DAYLIGHT
TZOFFSETFROM:-0800
TZOFFSETTO:-0700
TZNAME:PDT
DTSTART:20230312T100000
END:DAYLIGHT
BEGIN:STANDARD
TZOFFSETFROM:-0700
TZOFFSETTO:-0800
TZNAME:PST
DTSTART:20231105T090000
END:STANDARD
BEGIN:DAYLIGHT
TZOFFSETFROM:-0800
TZOFFSETTO:-0700
TZNAME:PDT
DTSTART:20240310T100000
END:DAYLIGHT
BEGIN:STANDARD
TZOFFSETFROM:-0700
TZOFFSETTO:-0800
TZNAME:PST
DTSTART:20241103T090000
END:STANDARD
END:VTIMEZONE
BEGIN:VEVENT
DTSTART;TZID=America/Los_Angeles:20230411T180000
DTEND;TZID=America/Los_Angeles:20230411T193000
DTSTAMP:20260425T082503
CREATED:20230322T042059Z
LAST-MODIFIED:20230411T233152Z
UID:4352-1681236000-1681241400@highlandterracepta.org
SUMMARY:HTPTA April General Membership Meeting
DESCRIPTION:Join us at Spiro’s for HTPTA’s final General Membership meeting of the school year. If you can’t attend in person\, we also have the option to join remotely (Zoom info below). \nCome hear what PTA is all about. We’ll share our ideas and needs for 2023-2024\, and members will vote in next year’s Executive Committee as well as the proposed budget. View the full Meeting Agenda (updated 4/8) \nPizza and salad will be provided. All are welcome\, but please no kiddos. \nZoom details for joining the meeting remotely:\nMeeting link\nMeeting ID: 362 819 8374\nPasscode: e0uphk \n 
URL:https://highlandterracepta.org/event/april-2023-general-membership-meeting/
LOCATION:Spiro’s Pizza & Pasta\, 18411 Aurora Ave\, Shoreline\, WA\, 98133
ORGANIZER;CN="Highland Terrace PTA":MAILTO:highlandterracepta@gmail.com
END:VEVENT
END:VCALENDAR